Workbook

Sheet Sheet1
A1: Приложение № 2-3
A2: СПРАВКА
A3: за разходите по функции, дейности и параграфи за държавни дейности, дофинансирани с общински приходи в община Елена
A4: ФУНКЦИЯ, ГРУПА, ДЕЙНОСТ | B4: отчет 2009 | F4: бюджет 2010 | K4: % увеличение намаление
B5: всичко за дейност | C5: заплати осигуровкидр.възнагр. | D5: други възнаграждения | E5: издръжка | F5: всичко за дейност | G5: заплати осигуровкидр.възнагр. | H5: други възнаграждения | I5: издръжка | J5: капиталови разходи
A6: А | B6: 1 | C6: 2 | D6: 3 | E6: 4 | F6: 5 | G6: 6 | H6: 7 | I6: 8 | J6: 9 | K6: 10
A7: ОБЩИНСКИ ДЕЙНОСТИ
A8: 1. ФУНКЦИЯ 1 ОБЩИ ДЪРЖАВНИ СЛУЖБИ | B8: =B9 -> 58750 | C8: =C9 -> 57208 | D8: =D9 -> 1542 | E8: =E9 -> 0 | F8: =F9 -> 150441 | G8: =G9 -> 62741 | H8: =H9 -> 87700 | I8: =I9 -> 0 | J8: =J9 -> 0 | K8: =F8/B8*100 -> 256.06979
A9: Д-т 1-13-122 Общинска администрация | B9: =C9+D9+E9 -> 58750 | C9: 57208 | D9: 1542 | E9: 0 | F9: =SUM(G9:J9) -> 150441 | G9: 62741 | H9: 87700 | I9: 0 | J9: 0 | K9: =F9/B9*100 -> 256.06979
A10: 3.ФУНКЦИЯ 3 “ОБРАЗОВАНИЕ” | B10: =B11+B12+B13 -> 0 | C10: =C11+C12+C13 -> 0 | D10: =D11+D12+D13 -> 0 | E10: =E11+E12+E13 -> 0 | F10: =F11+F12+F13 -> 34657 | G10: =G11+G12+G13 -> 16180 | H10: =H11+H12+H13 -> 2060 | I10: =I11+I12+I13 -> 14417 | J10: =J11+J12+J13 -> 2000
A11: Д-т 3-03-322 Общообразователни училища | B11: =C11+D11+E11 -> 0 | C11: 0 | D11: 0 | E11: 0 | F11: =SUM(G11:J11) -> 32354 | G11: 14180 | H11: 2060 | I11: 14114 | J11: 2000
A12: Д-т 3-03-332 Общежитие | B12: =C12+D12+E12 -> 0 | C12: 0 | D12: 0 | E12: 0 | F12: =SUM(G12:J12) -> 303 | G12: 0 | H12: 0 | I12: 303 | J12: 0
A13: Д-т 3-03-337 Извънучилищни дейности | B13: =C13+D13+E13 -> 0 | C13: 0 | D13: 0 | E13: 0 | F13: =SUM(G13:J13) -> 2000 | G13: 2000 | H13: 0 | J13: 0
A14: 4.ФУНКЦИЯ 4 “ЗДРАВЕОПАЗВАНЕ” | B14: =B15 -> 2412 | C14: =C15 -> 2403 | D14: =D15 -> 9 | E14: =E15 -> 0 | F14: =F15 -> 6780 | G14: =G15 -> 2524 | H14: =H15 -> 4256 | I14: =I15 -> 0 | J14: =J15 -> 0 | K14: =F14/B14*100 -> 281.09453
A15: Д-т 4-03-431 Детска ясла | B15: =C15+D15+E15 -> 2412 | C15: 2403 | D15: 9 | E15: 0 | F15: =SUM(G15:J15) -> 6780 | G15: 2524 | H15: 4256 | I15: 0 | J15: 0 | K15: =F15/B15*100 -> 281.09453
A16: 5.ФУНКЦИЯ 5 “СОЦИАЛНО ОСИГУРЯВАНЕ И ГРИЖИ” | B16: =SUM(B17:B21) -> 8348 | C16: =SUM(C17:C21) -> 490 | D16: =SUM(D17:D21) -> 3376 | E16: =SUM(E17:E21) -> 4482 | F16: =SUM(F17:F21) -> 5546 | G16: =SUM(G17:G21) -> 546 | H16: =SUM(H17:H21) -> 3000 | I16: =SUM(I17:I21) -> 0 | J16: =SUM(J17:J21) -> 2000 | K16: =F16/B16*100 -> 66.435074
A17: Д-т 5-33-532 Програми за временна заетост | B17: =C17+D17+E17 -> 3866 | C17: 490 | D17: 3376 | E17: 0 | F17: =SUM(G17:J17) -> 3546 | G17: 546 | H17: 3000 | I17: 0 | J17: 0 | K17: =F17/B17*100 -> 91.722711
A18: Д-т 5-33-540 Дом за стари хора | B18: =C18+D18+E18 -> 0 | C18: 0 | D18: 0 | E18: 0 | F18: =SUM(G18:J18) -> 0 | G18: 0 | H18: 0 | I18: 0 | J18: 0
A19: Д-Т 5-33-546 ДДМУИ | B19: =C19+D19+E19 -> 4134 | C19: 0 | D19: 0 | E19: 4134 | F19: =SUM(G19:J19) -> 0 | G19: 0 | H19: 0 | I19: 0 | J19: 0 | K19: =F19/B19*100 -> 0
A20: Д-т 5-33-551 Дневен център за деца с увреждания | B20: =C20+D20+E20 -> 348 | C20: 0 | D20: 0 | E20: 348 | F20: =SUM(G20:J20) -> 0 | G20: 0 | H20: 0 | I20: 0 | J20: 0 | K20: =F20/B20*100 -> 0
A21: Д-т 5-33-554 Защитено жилище | B21: =C21+D21+E21 -> 0 | C21: 0 | D21: 0 | E21: 0 | F21: =SUM(G21:J21) -> 2000 | G21: 0 | H21: 0 | I21: 0 | J21: 2000
A22: 7.ФУНКЦИЯ 7 “ПОЧИВНО ДЕЛО, КУЛТУРА, РЕЛИГ. ДЕЙН. | B22: =B23 -> 3000 | C22: =C23 -> 0 | D22: =D23 -> 0 | E22: =E23 -> 3000 | F22: =F23 -> 14785 | G22: =G23 -> 0 | H22: =H23 -> 0 | I22: =I23 -> 0 | J22: =J23 -> 14785 | K22: =F22/B22*100 -> 492.83333
A23: ГРУПА 73 КУЛТУРА | B23: =B24+B25 -> 3000 | C23: =C24+C25 -> 0 | D23: =D24+D25 -> 0 | E23: =E24+E25 -> 3000 | F23: =F24+F25 -> 14785 | G23: =G24+G25 -> 0 | H23: =H24+H25 -> 0 | I23: =I24+I25 -> 0 | J23: =J24+J25 -> 14785 | K23: =F23/B23*100 -> 492.83333
A24: 7-33-738 Читалища | B24: =C24+D24+E24 -> 3000 | C24: 0 | D24: 0 | E24: 3000 | F24: =SUM(G24:J24) -> 14785 | G24: 0 | H24: 0 | I24: 0 | J24: 14785 | K24: =F24/B24*100 -> 492.83333
A25: 7-33-739 Музей | B25: =C25+D25+E25 -> 0 | C25: 0 | D25: 0 | E25: 0 | F25: =SUM(G25:J25) -> 0 | G25: 0 | H25: 0 | I25: 0 | J25: 0
A26: ВСИЧКО ЗА РАЗХОДИ ЗА ДОФИНАНСИРАНИ ДЪРЖАВНИ ДЕЙНОСТИ С ОБЩИНСКИ ПРИХОДИ: | B26: =B8+B10+B14+B16+B22 -> 72510 | C26: =C8+C10+C14+C16+C22 -> 60101 | D26: =D8+D10+D14+D16+D22 -> 4927 | E26: =E8+E10+E14+E16+E22 -> 7482 | F26: =F8+F10+F14+F16+F22 -> 212209 | G26: =G8+G10+G14+G16+G22 -> 81991 | H26: =H8+H10+H14+H16+H22 -> 97016 | I26: =I8+I10+I14+I16+I22 -> 14417 | J26: =J8+J10+J14+J16+J22 -> 18785 | K26: =F26/B26*100 -> 292.6617

Sheet Sheet2
B1: ПРОЕКТО БЮДЖЕТ 2010
A2: ОБЩИ ДЪРЖАВНИ СЛУЖБИ | B2: =Sheet1!F8 -> 150441
A3: ОБРАЗОВАНИЕ | B3: =Sheet1!F10 -> 34657
A4: ЗДРАВЕОПАЗВАНЕ | B4: =Sheet1!F14 -> 6780
A5: СОЦИАЛНИ ГРИЖИ | B5: =Sheet1!F16 -> 5546
A6: ПОЧИВНО ДЕЛО И КУЛТУРА | B6: =Sheet1!F22 -> 14785
B7: =SUM(B2:B6) -> 212209
