Workbook

Sheet Sheet1
A2: Приложение № 2-2
A3: С П Р А В К А
A4: ЗА ИЗПЪЛНЕНИЕ НА РАЗХОДИТЕ ЗА МЕСТНИ ДЕЙНОСТИ ПО БЮДЖЕТА НА ОБЩИНА ЕЛЕНА КЪМ 31.12.2009 ГОДИНА
A5: ФУНКЦИЯ, ГРУПА, ДЕЙНОСТ | B5: Първо начален бюджет 2009 | C5: в това число | G5: Уточнен бюджет 31.12.2009 | H5: в това число | L5: Отчет към 31.12.2009 | M5: в това число | P5: % на изпълнение спрямо уточнен план 31.12.2009
C6: заплати осигуровкидр.възнагр. | D6: издръжка | E6: капиталови разходи | F6: резерв | H6: заплати осигуровкидр.възнагр. | I6: издръжка | J6: капиталови разходи | K6: резерв | M6: заплати осигуровкидр.възнагр. | N6: издръжка | O6: капиталови разходи
A7: А | B7: 1 | C7: 2 | D7: 5 | E7: 6 | F7: 7 | G7: 2 | H7: 9 | I7: 10 | J7: 11 | K7: 12 | L7: 3 | M7: 4 | N7: 5 | O7: 6 | P7: 7
A8: ОБЩИНСКИ ДЕЙНОСТИ
A9: ФУНКЦИЯ 1 ОБЩИ ДЪРЖАВНИ СЛУЖБИ | B9: =B10+B11 -> 404334 | C9: =C10+C11 -> 35000 | D9: =D10+D11 -> 306500 | E9: =E10+E11 -> 40334 | F9: =F10+F11 -> 22500 | G9: =G10+G11 -> 382729 | H9: =H10+H11 -> 33323 | I9: =I10+I11 -> 282827 | ... O9: =O10+O11 -> 34079 | P9: =L9/G9*100 -> 78.383922
A10: Д-т 122 Общинска администрация | B10: =SUM(C10:F10) -> 362334 | C10: =H10+M10 -> 0 | D10: 300000 | E10: 40334 | F10: 22000 | G10: =H10+I10+J10+K10 -> 340729 | H10: 0 | I10: 274650 | J10: 44079 | K10: 22000 | L10: =M10+N10+O10 -> 263807 | M10: 0 | N10: 229728 | O10: 34079 | P10: =L10/G10*100 -> 77.424287
A11: Д-т 123 Общински съвет | B11: =SUM(C11:F11) -> 42000 | C11: 35000 | D11: 6500 | E11: =J11+O11 -> 0 | F11: 500 | G11: =H11+I11+J11+K11 -> 42000 | H11: 33323 | I11: 8177 | J11: 0 | K11: 500 | L11: =M11+N11+O11 -> 36191 | M11: 28184 | N11: 8007 | O11: 0 | P11: =L11/G11*100 -> 86.169048
A12: ФУНКЦИЯ 2 ОТБРАНА И СИГУРНОСТ | B12: =B13+B14 -> 22439 | C12: =C13+C14 -> 0 | D12: =D13+D14 -> 11399 | E12: =E13+E14 -> 11040 | F12: =F13+F14 -> 0 | G12: =G13+G14 -> 23647 | H12: =H13+H14 -> 0 | I12: =I13+I14 -> 11031 | ... O12: =O13+O14 -> 12248 | P12: =L12/G12*100 -> 75.037003
A13: Д-т 283 Превантивни д-ти за нам. на вредните последсвия от БАК | B13: =SUM(C13:F13) -> 11040 | C13: =H13+M13 -> 0 | D13: =I13+N13 -> 0 | E13: 11040 | F13: 0 | G13: =H13+I13+J13+K13 -> 12616 | H13: 0 | I13: 0 | J13: 12616 | K13: 0 | L13: =M13+N13+O13 -> 12248 | M13: 0 | N13: 0 | O13: 12248 | P13: =L13/G13*100 -> 97.083069
A14: Д-т 284 Ликвидиране на последиците от стихийни бедствия и производствини аварии | B14: =SUM(C14:F14) -> 11399 | C14: =H14+M14 -> 0 | D14: 11399 | E14: =J14+O14 -> 0 | F14: 0 | G14: =H14+I14+J14+K14 -> 11031 | H14: 0 | I14: 11031 | J14: 0 | K14: 0 | L14: =M14+N14+O14 -> 5496 | M14: 0 | N14: 5496 | O14: 0 | P14: =L14/G14*100 -> 49.823225
A15: ФУНКЦИЯ 3 ОБРАЗОВАНИЕ | B15: =B16+B17+B18 -> 159907 | C15: =C16+C17+C18 -> 15298 | D15: =D16+D17+D18 -> 94290 | E15: =E16+E17+E18 -> 43109 | F15: =F16+F17+F18 -> 7210 | G15: =G16+G17+G18 -> 245842 | H15: =H16+H17+H18 -> 15888 | I15: =I16+I17+I18 -> 93949 | ... K15: =K16+K17+K18 -> 7210 | L15: =M15+N15+O15 -> 82512 | M15: =M16+M17+M18 -> 15415 | N15: =N16+N17+N18 -> 57973 | O15: =O16+O17+O18 -> 9124 | P15: =L15/G15*100 -> 33.56302
A16: Д-т 311 Целодневни детски градини | B16: =SUM(C16:F16) -> 134348 | C16: =H16+M16 -> 0 | D16: 88300 | E16: 39348 | F16: 6700 | G16: =H16+I16+J16+K16 -> 220034 | H16: 0 | I16: 88300 | J16: 125034 | K16: 6700 | L16: =M16+N16+O16 -> 59381 | M16: 0 | N16: 54018 | O16: 5363 | P16: =L16/G16*100 -> 26.987193
A17: Д-т 337 Извънучилищни дейности | B17: =SUM(C17:F17) -> 6961 | C17: 0 | D17: 2950 | E17: 3761 | F17: 250 | G17: =H17+I17+J17+K17 -> 7210 | H17: 240 | I17: 2959 | J17: 3761 | K17: 250 | L17: =M17+N17+O17 -> 6772 | M17: 240 | N17: 2771 | O17: 3761 | P17: =L17/G17*100 -> 93.925104
A18: Д-т 389 Други дейности по образованието | B18: =SUM(C18:F18) -> 18598 | C18: 15298 | D18: 3040 | E18: =J18+O18 -> 0 | F18: 260 | G18: =H18+I18+J18+K18 -> 18598 | H18: 15648 | I18: 2690 | J18: 0 | K18: 260 | L18: =M18+N18+O18 -> 16359 | M18: 15175 | N18: 1184 | O18: 0 | P18: =L18/G18*100 -> 87.961071
A19: ФУНКЦИЯ 4 ЗДРАВЕОПАЗВАНЕ | B19: =B20+B21+B22 -> 38430 | C19: =C20+C21+C22 -> 0 | D19: =D20+D21+D22 -> 22030 | E19: =E20+E21+E22 -> 14500 | F19: =F20+F21+F22 -> 1900 | G19: =G20+G21+G22 -> 350213 | H19: =H20+H21+H22 -> 82481 | I19: =I20+I21+I22 -> 124936 | ... O19: =O20+O21+O22 -> 140896 | P19: =L19/G19*100 -> 98.592571
A20: Д-т 413 МБАЛ | B20: =SUM(C20:F20) -> 0 | C20: 0 | D20: 0 | E20: 0 | F20: 0 | G20: =H20+I20+J20+K20 -> 47576 | H20: 0 | I20: 47576 | J20: 0 | K20: 0 | L20: =M20+N20+O20 -> 47576 | M20: 0 | N20: 47576 | O20: 0 | P20: =L20/G20*100 -> 100
A21: Д-т 431 Детска ясла | B21: =SUM(C21:F21) -> 23930 | C21: =H21+M21 -> 0 | D21: 22030 | E21: 0 | F21: 1900 | G21: =H21+I21+J21+K21 -> 29980 | H21: 0 | I21: 24056 | J21: 4024 | K21: 1900 | L21: =M21+N21+O21 -> 25051 | M21: 0 | N21: 21027 | O21: 4024 | P21: =L21/G21*100 -> 83.559039
A22: Д-т 468 МПС (Хоспис) | B22: =SUM(C22:F22) -> 14500 | C22: 0 | D22: 0 | E22: 14500 | F22: 0 | G22: =H22+I22+J22+K22 -> 272657 | H22: 82481 | I22: 53304 | J22: 136872 | K22: 0 | L22: =M22+N22+O22 -> 272657 | M22: 82481 | N22: 53304 | O22: 136872 | P22: =L22/G22*100 -> 100
A23: ФУНКЦИЯ 5 СОЦИАЛНО ОСИГУРЯВАНЕ И ГРИЖИ | B23: =B24+B25+B26+B27 -> 184467 | C23: =C24+C25+C26+C27 -> 92062 | D23: =D24+D25+D26+D27 -> 85645 | E23: =E24+E25+E26+E27 -> 0 | F23: =F24+F25+F26+F27 -> 6760 | G23: =G24+G25+G26+G27 -> 185190 | H23: =H24+H25+H26+H27 -> 92585 | I23: =I24+I25+I26+I27 -> 85845 | ... K23: =K24+K25+K26+K27 -> 6760 | L23: =M23+N23+O23 -> 166055 | M23: =M24+M25+M26+M27 -> 87297 | N23: =N24+N25+N26+N27 -> 78758 | O23: =O24+O25+O26+O27 -> 0 | P23: =L23/G23*100 -> 89.667369
A24: Д-т 524 ДСП | B24: =SUM(C24:F24) -> 126543 | C24: 68543 | D24: 53000 | E24: =J24+O24 -> 0 | F24: 5000 | G24: =H24+I24+J24+K24 -> 125387 | H24: 69443 | I24: 50944 | J24: 0 | K24: 5000 | L24: =M24+N24+O24 -> 108012 | M24: 64155 | N24: 43857 | O24: 0 | P24: =L24/G24*100 -> 86.142902
A25: Д-т 525 Клубове на пенсионери,инвалиди и др.соц.услуги | B25: =SUM(C25:F25) -> 13111 | C25: 4111 | D25: 8280 | E25: =J25+O25 -> 0 | F25: 720 | G25: =H25+I25+J25+K25 -> 10941 | H25: 1972 | I25: 8249 | J25: 0 | K25: 720 | L25: =M25+N25+O25 -> 10221 | M25: 1972 | N25: 8249 | O25: 0 | P25: =L25/G25*100 -> 93.419249
A26: Д-т 532 ПВЗ | B26: =SUM(C26:F26) -> 13000 | C26: =H26+M26 -> 0 | D26: 11960 | E26: =J26+O26 -> 0 | F26: 1040 | G26: =H26+I26+J26+K26 -> 13759 | H26: 0 | I26: 12719 | J26: 0 | K26: 1040 | L26: =M26+N26+O26 -> 12719 | M26: 0 | N26: 12719 | O26: 0 | P26: =L26/G26*100 -> 92.441311
A27: Д-т 558 Междун. прогр. и споразумения | B27: =SUM(C27:F27) -> 31813 | C27: 19408 | D27: 12405 | E27: =J27+O27 -> 0 | F27: 0 | G27: =H27+I27+J27+K27 -> 35103 | H27: 21170 | I27: 13933 | J27: 0 | K27: 0 | L27: =M27+N27+O27 -> 35103 | M27: 21170 | N27: 13933 | O27: 0 | P27: =L27/G27*100 -> 100
A28: ФУНКЦИЯ 6 ЖИЛИЛИЩНО СТРОИТЕЛСТВО, БКС И ООС | B28: =SUM(B29:B37) -> 2105888 | C28: =SUM(C29:C37) -> 62565 | D28: =SUM(D29:D37) -> 682410 | E28: =SUM(E29:E37) -> 1335573 | F28: =SUM(F29:F37) -> 25340 | G28: =SUM(G29:G37) -> 2678017 | H28: =SUM(H29:H37) -> 62804 | I28: =SUM(I29:I37) -> 727384 | ... K28: =SUM(K29:K37) -> 25340 | L28: =M28+N28+O28 -> 2379250 | M28: =SUM(M29:M37) -> 58703 | N28: =SUM(N29:N37) -> 585912 | O28: =SUM(O29:O37) -> 1734635 | P28: =L28/G28*100 -> 88.843723
A29: Д-т 603 ВиК | B29: =SUM(C29:F29) -> 165493 | C29: =H29+M29 -> 0 | D29: 2760 | E29: 162493 | F29: 240 | G29: =H29+I29+J29+K29 -> 196913 | H29: 0 | I29: 8793 | J29: 187880 | K29: 240 | L29: =M29+N29+O29 -> 196587 | M29: 0 | N29: 8793 | O29: 187794 | P29: =L29/G29*100 -> 99.834445
A30: Д-т 604 Осветление | B30: =SUM(C30:F30) -> 137462 | C30: 7462 | D30: 119600 | E30: =J30+O30 -> 0 | F30: 10400 | G30: =H30+I30+J30+K30 -> 170326 | H30: 7612 | I30: 152314 | J30: 0 | K30: 10400 | L30: =M30+N30+O30 -> 154203 | M30: 7548 | N30: 146655 | O30: 0 | P30: =L30/G30*100 -> 90.534035
A31: Д-т 606 Изграждане, ремонт и поддръжка на улици и площади | B31: =SUM(C31:F31) -> 144201 | C31: =H31+M31 -> 0 | D31: 18400 | E31: 124201 | F31: 1600 | G31: =H31+I31+J31+K31 -> 165353 | H31: 0 | I31: 24077 | J31: 139676 | K31: 1600 | L31: =M31+N31+O31 -> 158726 | M31: 0 | N31: 23972 | O31: 134754 | P31: =L31/G31*100 -> 95.992211
A32: Д-т 619 Други дейности по жил. строителство и териториално развитие | B32: =SUM(C32:F32) -> 224379 | C32: 55103 | D32: 110697 | E32: 48879 | F32: 9700 | G32: =H32+I32+J32+K32 -> 251986 | H32: 55192 | I32: 127238 | J32: 59856 | K32: 9700 | L32: =M32+N32+O32 -> 213917 | M32: 51155 | N32: 125696 | O32: 37066 | P32: =L32/G32*100 -> 84.892415
A33: Д-т -622 Озеленяване | B33: =SUM(C33:F33) -> 9000 | C33: =H33+M33 -> 0 | D33: 8300 | E33: =J33+O33 -> 0 | F33: 700 | G33: =H33+I33+J33+K33 -> 9028 | H33: 0 | I33: 8328 | J33: 0 | K33: 700 | L33: =M33+N33+O33 -> 8328 | M33: 0 | N33: 8328 | O33: 0 | P33: =L33/G33*100 -> 92.246345
A34: Д-т 623 Чистота | B34: =SUM(C34:F34) -> 382585 | C34: =H34+M34 -> 0 | D34: 382585 | E34: =J34+O34 -> 0 | F34: 0 | G34: =H34+I34+J34+K34 -> 382585 | H34: 0 | I34: 382585 | J34: 0 | K34: 0 | L34: =M34+N34+O34 -> 248617 | M34: 0 | N34: 248617 | O34: 0 | P34: =L34/G34*100 -> 64.983468
A35: Д-т 626 Пречистване на отпадните води в нас. места | B35: =SUM(C35:F35) -> 1000000 | C35: =H35+M35 -> 0 | D35: =I35+N35 -> 0 | E35: 1000000 | F35: 0 | G35: =H35+I35+J35+K35 -> 1400094 | H35: 0 | I35: 0 | J35: 1400094 | K35: 0 | L35: =M35+N35+O35 -> 1300038 | M35: 0 | N35: 0 | O35: 1300038 | P35: =L35/G35*100 -> 92.853623
A36: Д-т 628 Международни прогр.и споразумения | B36: =SUM(C36:F36) -> 3768 | C36: =H36+M36 -> 0 | D36: 3768 | E36: =J36+O36 -> 0 | F36: 0 | G36: =H36+I36+J36+K36 -> 3968 | H36: 0 | I36: 3968 | J36: 0 | K36: 0 | L36: =M36+N36+O36 -> 3770 | M36: 0 | N36: 3770 | O36: 0 | P36: =L36/G36*100 -> 95.010081
A37: Д-т 629 Други дейности по благоустр. и опазване на околната среда | B37: =SUM(C37:F37) -> 39000 | C37: =H37+M37 -> 0 | D37: 36300 | E37: 0 | F37: 2700 | G37: =H37+I37+J37+K37 -> 97764 | H37: 0 | I37: 20081 | J37: 74983 | K37: 2700 | L37: =M37+N37+O37 -> 95064 | M37: 0 | N37: 20081 | O37: 74983 | P37: =L37/G37*100 -> 97.238247
A38: ФУНКЦИЯ 7 ПОЧИВНО ДЕЛО, КУЛТУРА И РЕЛИГИОЗНИ ДЕЙНОСТИ | B38: =B39+B42 -> 238740 | C38: =C39+C42 -> 46148 | D38: =D39+D42 -> 107940 | E38: =E39+E42 -> 74109 | F38: =F39+F42 -> 10543 | G38: =G39+G42 -> 354932 | H38: =H39+H42 -> 49423 | I38: =I39+I42 -> 145115 | ... K38: =K39+K42 -> 10543 | L38: =M38+N38+O38 -> 248739 | M38: =M39+M42 -> 46699 | N38: =N39+N42 -> 122691 | O38: =O39+O42 -> 79349 | P38: =L38/G38*100 -> 70.080748
A39: ГРУПА 72 ФИЗИЧЕСКА КУЛТУРА И СПОРТ | B39: =B40+B41 -> 137539 | C39: =C40+C41 -> 0 | D39: =D40+D41 -> 57087 | E39: =E40+E41 -> 74109 | F39: =F40+F41 -> 6343 | G39: =G40+G41 -> 205770 | H39: =H40+H41 -> 2098 | I39: =I40+I41 -> 91189 | ... K39: =K40+K41 -> 6343 | L39: =M39+N39+O39 -> 162053 | M39: =M40+M41 -> 2098 | N39: =N40+N41 -> 80606 | O39: =O40+O41 -> 79349 | P39: =L39/G39*100 -> 78.754435
A40: Д-т 712 Детски и специализирани спортни школи | B40: =SUM(C40:F40) -> 13430 | C40: =H40+M40 -> 0 | D40: 12087 | E40: =J40+O40 -> 0 | F40: 1343 | G40: =H40+I40+J40+K40 -> 13430 | H40: 0 | I40: 12087 | J40: 0 | K40: 1343 | L40: =M40+N40+O40 -> 11350 | M40: 0 | N40: 11350 | O40: 0 | P40: =L40/G40*100 -> 84.512286
A41: Д-т 714 Спортна база за спорт за всички | B41: =SUM(C41:F41) -> 124109 | C41: 0 | D41: 45000 | E41: 74109 | F41: 5000 | G41: =H41+I41+J41+K41 -> 192340 | H41: 2098 | I41: 79102 | J41: 106140 | K41: 5000 | L41: =M41+N41+O41 -> 150703 | M41: 2098 | N41: 69256 | O41: 79349 | P41: =L41/G41*100 -> 78.352397
...

Sheet Sheet2
B5: ОТЧЕТ 30.06.2009
A6: ОБЩИ ДЪРЖАВНИ СЛУЖБИ | B6: =Sheet1!L9 -> 299998 | C6: =B6/B16*100 -> 6.9441185
A7: ОТБРАНА И СИГУРНОСТ | B7: =Sheet1!L12 -> 17744 | C7: =B7/B16*100 -> 0.4107242
A8: ОБРАЗОВАНИЕ | B8: =Sheet1!L15 -> 82512 | C8: =B8/B16*100 -> 1.9099231
A9: ЗДРАВЕОПАЗВАНЕ | B9: =Sheet1!L19 -> 345284 | C9: =B9/B16*100 -> 7.9923633
A10: СОЦИАЛНИ ГРИЖИ | B10: =Sheet1!L23 -> 166055 | C10: =B10/B16*100 -> 3.8437109
A11: ЖИЛ.С-ВО, БКС И ООС | B11: =Sheet1!L28 -> 2379250 | C11: 59
A12: ПОЧИВНО ДЕЛО И КУЛТУРА | B12: =Sheet1!L38 -> 248739 | C12: =B12/B16*100 -> 5.7576153
A13: ИКОНОМИЧЕСКИ ДЕЙНОСТИ И УСЛУГИ | B13: =Sheet1!L47 -> 780592 | C13: =B13/B16*100 -> 18.068531
A14: ДРУГИ РАЗХОДИ | B14: =Sheet1!L56 -> 0 | C14: =B14/B16*100 -> 0
A15: РЕЗЕРВ | B15: 0 | C15: =B15/B16*100 -> 0
A16: ВСИЧКО ЗА РАЗХОДИ ЗА ОБЩИНСКИ ДЕЙНОСТИ: | B16: =SUM(B6:B15) -> 4320174

Sheet Sheet3
A1: А | B1: 1 | C1: 2
B2: БЮДЖЕТ 2009 | C2: ОТЧЕТ 2009
A3: ОДС | B3: =Sheet1!G9 -> 382729 | C3: =Sheet1!L9 -> 299998
A4: ОС | B4: =Sheet1!G12 -> 23647 | C4: =Sheet1!L12 -> 17744
A5: НП | B5: =Sheet1!G15 -> 245842 | C5: =Sheet1!L15 -> 82512
A6: НЗ | B6: =Sheet1!G19 -> 350213 | C6: =Sheet1!L19 -> 345284
A7: СГ | B7: =Sheet1!G23 -> 185190 | C7: =Sheet1!L23 -> 166055
A8: БКС | B8: =Sheet1!G28 -> 2678017 | C8: =Sheet1!L28 -> 2379250
A9: ЛДК | B9: =Sheet1!G38 -> 354932 | C9: =Sheet1!L38 -> 248739
A10: ИДУ | B10: =Sheet1!G47 -> 940352 | C10: =Sheet1!L47 -> 780592
A11: ДР.Р-ДИ | B11: =Sheet1!G56 -> 0 | C11: =Sheet1!L56 -> 0
A12: РЕЗЕРВ | B12: =Sheet1!G57 -> 0 | C12: =Sheet1!L57 -> 0
A13: ВСИЧКО ЗА РАЗХОДИ ЗА ОБЩИНСКИ ДЕЙНОСТИ: | B13: =SUM(B3:B12) -> 5160922 | C13: =SUM(C3:C12) -> 4320174
A92: А
A93: ФУНКЦИИ
A94: ОБЩИ ДЪРЖАВНИ СЛУЖБИ | B94: 381834 | C94: =B94/$B$104*100 -> 9.1903113
A95: ОТБРАНА И СИГУРНОСТ | B95: 22439 | C95: =B95/$B$104*100 -> 0.54008128
A96: ОБРАЗОВАНИЕ | B96: 152697 | C96: =B96/$B$104*100 -> 3.6752436
A97: ЗДРАВЕОПАЗВАНЕ | B97: 36530 | C97: =B97/$B$104*100 -> 0.87923567
A98: СОЦИАЛНО ОСИГУРЯВАНЕ И ГРИЖИ | B98: 177707 | C98: =B98/$B$104*100 -> 4.2772059
A99: ЖИЛИЩНО СТРОИТЕЛСТВО, БКС И ООС | B99: 1939528 | C99: =B99/$B$104*100 -> 46.682239
A100: ПОЧИВНО ДЕЛО, КУЛТУРА И РЕЛИГИОЗНИ ДЕЙНОСТИ | B100: 228197 | C100: =B100/$B$104*100 -> 5.492443
A101: ИКОНОМИЧЕСКИ ДЕЙНОСТИ И УСЛУГИ | B101: 833373 | C101: =B101/$B$104*100 -> 20.058343
A102: ДР.Р-ДИ | B102: 80000 | C102: =B102/$B$104*100 -> 1.9255093
A103: РЕЗЕРВ | B103: 302440 | C103: =B103/$B$104*100 -> 7.2793878
A104: ВСИЧКО ЗА РАЗХОДИ ЗА ОБЩИНСКИ ДЕЙНОСТИ: | B104: =SUM(B94:B103) -> 4154745
