Workbook

Sheet Разполож съдове
G1: собственик
E2: община | F2: фирма | G2: община | H2: фирма | I2: община | J2: фирма
A3: № | B3: кметство, км.наместничество | C3: населено място | D3: улица | E3: 1.1 | F3: 1.1 | G3: 0.24 | H3: 0.24 | I3: 0.1 | J3: 0.1
A4: 1 | B4: Елена | C4: гр.Елена | D4: Васил Левски | G4: 79
A5: 2 | D5: Ст. Планина | G5: 19
A6: 3 | D6: Теодор Теодоров | G6: 16
A7: 4 | D7: Напредък | G7: 5
A8: 5 | D8: Н.П.Константинов | F8: 5 | H8: 14
A9: 6 | D9: Ил.Макариополски
D10: Кирилов | E10: 2 | F10: 3
A11: 7 | D11: Робовска
A12: 8 | D12: Малина
A13: 9 | D13: Самуилец
A14: 10 | D14: Велчова Завера
A15: 12 | D15: И.Й.Брадати
A16: 13 | D16: Църковна
A17: 14 | D17: Балкан
A18: 15 | D18: Спортист
A19: 16 | D19: Ген Домбровски
A20: 17 | D20: църква
A21: 18 | D21: Кършовска
A22: 19 | D22: час кула
... A26: 23 | D26: Възрожденска
A27: 24 | D27: Ст.Михайловски | J27: 1
A28: 25 | D28: фурната
A29: 26 | D29: Чумерна
A30: 27 | D30: Крайбрежна
A31: 28 | D31: Орловска
A32: 29 | D32: Чуката
A33: 30 | D33: Опълченска
A34: 31 | D34: Оборище
A35: 32 | D35: Костовска
A36: 33 | D36: Крайбрежна
A37: 34 | D37: Осми март
A38: 35 | D38: Теменуга
A39: 36 | D39: Синчец
... A49: 46 | D49: Х.Й.Брадата
A50: 47 | D50: д-р Брадел | F50: 2 | H50: 1
A51: 48 | D51: Д.Болерци | J51: 7
A52: 49 | D52: Казаци | F52: 1
...

Sheet План-сметка
H1: Приложение № 1
A2: ПЛАН-СМЕТКА
A3: за приходи и необходимите средства за поддържане чистотата в гр.Елена и населените места съгласно
A4: Заповед №РД.02.05-517/11.12.2008 г. на кмета на община Елена
A6: І. | B6: Приходи
B7: Наименование | C7: Очаквани приходи
A8: 1. | B8: Такса битови отпадъци от предприятия, фирми и юридически лица | C8: 147425 | D8: лв.
A9: 2. | B9: Такса битови отпадъци от населението | C9: 138473 | D9: лв.
B10: Общо приходи | C10: =SUM(C8:E9) -> 285898 | D10: лв.
A12: ІІ. | B12: Разходи
B13: Наименование | C13: Осигуряване на нови съдове | D13: Сметосъбиране, сметоизвозване | E13: Поддръжка депо и мониторинг | F13: Улично по-чистване в т.ч. поддръжка зелени площи | G13: Отпечатване уведомителни писма | H13: Общо | I13: Забележка
A14: 1. | B14: Фирма изпълнител "Титан Клинър" ООД съгласно договор до 11,08,08 г. | C14: 0 | D14: 114461 | E14: 5167 | F14: 86107 | G14: 0 | H14: =SUM(C14:G14) -> 205735
B15: в т.ч. поддържане на зелени площи и улици | C15: 0 | D15: 0 | E15: 0 | F15: =F14 -> 86107 | G15: 0 | H15: =SUM(C15:G15) -> 86107
A16: 2. | B16: Община Елена | C16: =SUM(C17,C19:C22) -> 27000 | D16: =SUM(D17,D19:D22) -> 0 | E16: =SUM(E17,E19:E22) -> 16600 | F16: =SUM(F17,F19:F22) -> 27063 | G16: =SUM(G17,G19:G22) -> 9500 | H16: =SUM(C16:G16) -> 80163
A17: 2,1. | B17: За съдове за ТБО | C17: 27000 | D17: 0 | E17: 0 | F17: 0 | G17: 0 | H17: =SUM(C17:F17) -> 27000
B18: в т.ч. съдове за ТБО м.05 | C18: 27000 | D18: 0 | E18: 0 | F18: 0 | G18: 0 | H18: =SUM(C18:F18) -> 27000
A19: 2,2. | B19: За миене през 2009 г. | C19: 0 | D19: 0 | E19: 0 | F19: 7063 | G19: 0 | H19: =SUM(C19:G19) -> 7063
A20: 2,3. | B20: За мониторинг на депо за ТБО | C20: 0 | D20: 0 | E20: 16600 | F20: 0 | G20: 0 | H20: =SUM(C20:F20) -> 16600
A21: 2,4. | B21: За разходи по НП"ОСПОЗ" | C21: 0 | D21: 0 | E21: 0 | F21: 20000 | G21: 0 | H21: =SUM(C21:G21) -> 20000
A22: 2,5. | B22: Отпечатване уведомителни писма | C22: 0 | D22: 0 | E22: 0 | F22: 0 | G22: 9500 | H22: =SUM(C22:G22) -> 9500
B23: Общо разходи | C23: =SUM(C14,C16) -> 27000 | D23: =SUM(D14,D16) -> 114461 | E23: =SUM(E14,E16) -> 21767 | F23: =SUM(F14,F16) -> 113170 | G23: =SUM(G14,G16) -> 9500 | H23: =SUM(H14,H16) -> 285898
A26: Комисия съгласно заповедта:

Sheet Разбивка цена
A1: Минимална работна заплата | B1: 240 | E1: 2009 г.
A3: Цена за 1 м3 = | B3: =O9 -> 7.68672 | C3: лв/м3 Скания+ | E3: =O13 -> 16.116 | F3: лв/м3 ман+ | G3: =SUM(O17,O19,O21) -> 0.1224 | H3: лв ръчно обсл | J3: =O24 -> 0.92862745 | K3: миене | L3: =O28 -> 1.0448829 | M3: лв/м3 депо | N3: 1 м3 | O3: =SUM(B3,E3,G3,J3,L3) -> 25.89863
A6: "Скания" – 16 м3 | B6: 16 | C6: м3 пресован : | E6: 0.36 | F6: =B6/E6 -> 44.444444 | G6: м3 обемен
A7: 1 м/см = | B7: 1.5 | C7: курса = | E7: =B6*B7 -> 24 | F7: м3 пресован = | H7: =F6*B7 -> 66.666667 | I7: м3 обемен
A8: Цена съгласно оферта с ДДС | B8: 2.1352 | C8: от мин раб заплата
A9: 1 м/см – | B9: =B1*B8 -> 512.448 | C9: лв : | D9: =H7 -> 66.666667 | E9: м3 обемен | H9: =B9/D9 -> 7.68672 | I9: лв/1м3 | N9: лв/1м3 обемен | O9: =H9 -> 7.68672
A11: “МАН” – 4 м3 1 м/см = | B11: 4 | C11: курса Х | D11: 4 | E11: м3 = | F11: =B11*D11 -> 16 | G11: м3
A12: Цена съгласно оферта с ДДС | B12: 1.0744 | C12: от мин раб заплата
A13: 1 м/см = | B13: =B1*B12 -> 257.856 | C13: лв : | D13: =F11 -> 16 | E13: м3 = | F13: =B13/D13 -> 16.116 | G13: лв/1 м3 | N13: лв/м3 | O13: =F13 -> 16.116
B14: 1м/см х 21 раб.дни =........... лв. | G14: =B13*21 -> 5414.976 | H14: лв : | I14: =SUM(H37:H39) -> 2142 | J14: бр съдове = | L14: =G14/I14 -> 2.528 | M14: лв | O14: =L14 -> 2.528
A16: Събиране и изхвърляне отпадъци около един съд за едно обслужване:
A17: 1 "Бобър" | B17: =B1*B18 -> 0.096 | C17: лв/1обс/1съд Х | E17: =H37 -> 135 | F17: бр.съдове = | G17: =B17*E17 -> 12.96 | H17: лв | N17: за Бобар 1м3 | O17: =B17*1.1 -> 0.1056
A18: Цена съгласно оферта без ДДС | B18: 0.0004 | C18: от мин раб заплата
A19: 1 пл. кофа | B19: =B1*B20 -> 0.048 | C19: лв/1обс/1съд Х | E19: =SUM(H38) -> 708 | F19: бр.съдове = | G19: =B19*E19 -> 33.984 | H19: лв | N19: за 0,24 1м3 | O19: =B19*0.24 -> 0.01152
A20: Цена съгласно оферта без ДДС | B20: 0.0002 | C20: от мин раб заплата
A21: 1 мет. кофа | B21: =B1*B20 -> 0.048 | C21: лв/1обс/1съд Х | E21: =SUM(H39) -> 1299 | F21: бр.съдове = | G21: =B21*E21 -> 62.352 | H21: лв | N21: за0,11 1 м3 | O21: =B21*0.11 -> 0.00528
A22: Цена съгласно оферта без ДДС | B22: 0.0002 | C22: от мин раб заплата
A24: Автомиячка – 1 м/см = | B24: =B1*B25 -> 497.28 | C24: лв Х 4 м/см/ в год = | F24: =B24*4 -> 1989.12 | G24: лв : | H24: =SUM(H37:H39) -> 2142 | I24: бр съда = | J24: =F24/H24 -> 0.92862745 | K24: лв/1 съд / година | O24: =J24 -> 0.92862745
A25: Цена съгласно оферта с ДДС | B25: 2.072 | C25: от мин раб заплата
A27: Обслужване депо – мониторинг | B27: ='План-сметка'!E20 -> 16600 | C27: лв. + поддръжка на депото | G27: ='План-сметка'!E23-B27 -> 5167 | H27: лв = | I27: =SUM(B27,G27) -> 21767 | J27: лв. : 12 м = | L27: =I27/12 -> 1813.9167 | M27: лв/мес
B28: =L27 -> 1813.9167 | C28: лв/мес | D28: : | E28: 21 | F28: раб.дни = | G28: =B28/E28 -> 86.376984 | H28: лв/ден : | I28: =SUM(H7,F11) -> 82.666667 | J28: м3 за 1 ден = | L28: =G28/I28 -> 1.0448829 | M28: лв/ден/1м3 | O28: =L28 -> 1.0448829
A30: Булдозер 1 м/см = | B30: =B1*B31 -> 430.56 | C30: лв. | O30: =B30 -> 430.56
A31: Цена съгласно оферта без ДДС | B31: 1.794 | C31: от мин раб заплата
A33: Автометачка 1 м/см = | B33: =B1*B34 -> 570.96 | C33: лв.
A34: Цена съгласно оферта с ДДС | B34: 2.379 | C34: от мин раб заплата
G36: Разположени бр. съдове
A37: При цена за 1 съд с ДДС: | B37: 480 | C37: лв | D37: контейнер | H37: =SUM('Разполож съдове'!E124:F124) -> 135
B38: 66.09 | C38: лв | D38: пластм.кофа | H38: =SUM('Разполож съдове'!G124:H124) -> 708
B39: 72.42 | C39: лв | D39: метална кофа | H39: =SUM('Разполож съдове'!I124:J124) -> 1299
A41: Сума за 1 съд и 1 обслужване общо с и без ДДС
A42: за конт. | B42: 1.1 | C42: м3 | D42: Х | E42: =O3 -> 25.89863 | F42: лв. = | G42: =B42*E42 -> 28.488493 | H42: лв/1 бр/1 обслужване | O42: =G42 -> 28.488493
A43: пластм.кофа | B43: 0.24 | C43: м4 | D43: Х | E43: =O3 -> 25.89863 | F43: лв. = | G43: =B43*E43 -> 6.2156713 | H43: лв/1 бр/1 обслужване | O43: =G43 -> 6.2156713
A44: мет.кофа | B44: 0.11 | C44: м5 | D44: Х | E44: =O3 -> 25.89863 | F44: лв. = | G44: =B44*E44 -> 2.8488493 | H44: лв/1 бр/1 обслужване | O44: =G44 -> 2.8488493

Sheet цена обсл съдове
A1: ЦЕНИ
A2: ЗА ОБСЛУЖВАНЕ НА СЪДОВЕ ЗА ТБО, ИЗПОЛЗВАНИ ОТ ЮРИДИЧЕСКИ ЛИЦА И ЕДНОЛИЧНИ ТЪРГОВЦИ ЗА 2009 Г.
A4: СКАНИЯ - | B4: ='Разбивка цена'!B9 -> 512.448 | C4: лв. м/см с вкл. ДДС – 16 м3
A5: МАН - | B5: ='Разбивка цена'!B13 -> 257.856 | C5: лв. м/см с вкл. ДДС – 4 м3
A7: За 1 м3 ТБО – | B7: ='Разбивка цена'!O3 -> 25.89863 | C7: (С включени разходи сметосъбиране, сметоизвозване, обезвреждане депо и закупуване на съдове)
A8: Елементи | B8: Брой на обслужване | E8: За 1 контейнер тип”BOBR” – 1.1 м3 | G8: За една кофа – пластмасова – 0.24 м3 | I8: За една кофа – метална 0.11 м3 | K8: Забележка
A9: 1 | B9: 2 | E9: 3 | G9: 4 | I9: 5 | K9: 6
A10: Сметосъбиране и сметоизвозване | E10: =SUM('Разбивка цена'!O9,'Разбивка цена'!O14)*1.1 -> 11.236192 | F10: лв | G10: =SUM('Разбивка цена'!O9,'Разбивка цена'!O14)*0.24 -> 2.4515328 | H10: лв | I10: =SUM('Разбивка цена'!O9,'Разбивка цена'!O14)*0.11 -> 1.1236192 | J10: лв
A11: Поддържане и мониторинг на депо за ТБО | E11: ='Разбивка цена'!O28*1.1 -> 1.1493712 | F11: лв | G11: ='Разбивка цена'!O28*0.24 -> 0.25077189 | H11: лв | I11: ='Разбивка цена'!O28*0.11 -> 0.11493712 | J11: лв
A12: Закупуване на съдове | B12: т.1.1 | C12: 252 | D12: бр | E12: ='Разбивка цена'!B37/C12 -> 1.9047619 | F12: лв | G12: ='Разбивка цена'!B38/C12 -> 0.2622619 | H12: лв | I12: ='Разбивка цена'!B39/C12 -> 0.28738095 | J12: лв
B13: т.1.2 | C13: 120 | D13: бр | E13: ='Разбивка цена'!B37/C13 -> 4 | F13: лв | G13: ='Разбивка цена'!B38/C13 -> 0.55075 | H13: лв | I13: ='Разбивка цена'!B39/C13 -> 0.6035 | J13: лв
B14: т.1.3 и т. 2 | C14: 52 | D14: бр | E14: ='Разбивка цена'!B37/C14 -> 9.2307692 | F14: лв | G14: ='Разбивка цена'!B38/C14 -> 1.2709615 | H14: лв | I14: ='Разбивка цена'!B39/C14 -> 1.3926923 | J14: лв
B15: т.3 | C15: 24 | D15: бр | E15: ='Разбивка цена'!B37/C15 -> 20 | F15: лв | G15: ='Разбивка цена'!B38/C15 -> 2.75375 | H15: лв | I15: ='Разбивка цена'!B39/C15 -> 3.0175 | J15: лв
B16: т.4 | C16: 12 | D16: бр | E16: ='Разбивка цена'!B37/C16 -> 40 | F16: лв | G16: ='Разбивка цена'!B38/C16 -> 5.5075 | H16: лв | I16: ='Разбивка цена'!B39/C16 -> 6.035 | J16: лв
A17: Всичко за едно обслужване | B17: т.1.1 | C17: 1 | D17: бр | E17: =SUM($E$10+$E$11+E12) -> 14.290325 | F17: лв | G17: =SUM($G$10+$G$11+G12) -> 2.9645666 | H17: лв | I17: =SUM($I$10+$I$11+I12) -> 1.5259373 | J17: лв
B18: т.1.2 | C18: 1 | D18: бр | E18: =SUM($E$10+$E$11+E13) -> 16.385563 | F18: лв | G18: =SUM($G$10+$G$11+G13) -> 3.2530547 | H18: лв | I18: =SUM($I$10+$I$11+I13) -> 1.8420563 | J18: лв
B19: т.1.3 и т. 2 | C19: 1 | D19: бр | E19: =SUM($E$10+$E$11+E14) -> 21.616332 | F19: лв | G19: =SUM($G$10+$G$11+G14) -> 3.9732662 | H19: лв | I19: =SUM($I$10+$I$11+I14) -> 2.6312486 | J19: лв
B20: т.3 | C20: 1 | D20: бр | E20: =SUM($E$10+$E$11+E15) -> 32.385563 | F20: лв | G20: =SUM($G$10+$G$11+G15) -> 5.4560547 | H20: лв | I20: =SUM($I$10+$I$11+I15) -> 4.2560563 | J20: лв
B21: т.4 | C21: 1 | D21: бр | E21: =SUM($E$10+$E$11+E16) -> 52.385563 | F21: лв | G21: =SUM($G$10+$G$11+G16) -> 8.2098047 | H21: лв | I21: =SUM($I$10+$I$11+I16) -> 7.2735563 | J21: лв
A22: Всичко за 2009година + цена за измиване на съда | B22: т.1.1 | C22: 252 | D22: бр | E22: =SUM(E17*C22)+'Разбивка цена'!O24 -> 3602.0905 | F22: лв | G22: =SUM(G17*C22)+'Разбивка цена'!O24 -> 747.99941 | H22: лв | I22: =SUM(I17*C22)+'Разбивка цена'!O24 -> 385.46482 | J22: лв
B23: т.1.2 | C23: 120 | D23: бр | E23: =SUM(E18*C23)+'Разбивка цена'!O24 -> 1967.1962 | F23: лв | G23: =SUM(G18*C23)+'Разбивка цена'!O24 -> 391.29519 | H23: лв | I23: =SUM(I18*C23)+'Разбивка цена'!O24 -> 221.97539 | J23: лв
B24: т.1.3 и т. 2 | C24: 52 | D24: бр | E24: =SUM(E19*C24)+'Разбивка цена'!O24 -> 1124.9779 | F24: лв | G24: =SUM(G19*C24)+'Разбивка цена'!O24 -> 207.53847 | H24: лв | I24: =SUM(I19*C24)+'Разбивка цена'!O24 -> 137.75356 | J24: лв
B25: т.3 | C25: 24 | D25: бр | E25: =SUM(E20*C25)+'Разбивка цена'!O24 -> 778.18214 | F25: лв | G25: =SUM(G20*C25)+'Разбивка цена'!O24 -> 131.87394 | H25: лв | I25: =SUM(I20*C25)+'Разбивка цена'!O24 -> 103.07398 | J25: лв
B26: т.4 | C26: 12 | D26: бр | E26: =SUM(E21*C26)+'Разбивка цена'!O24 -> 629.55539 | F26: лв | G26: =SUM(G21*C26)+'Разбивка цена'!O24 -> 99.446284 | H26: лв | I26: =SUM(I21*C26)+'Разбивка цена'!O24 -> 88.211303 | J26: лв
A30: Изготвил: | F30: КМЕТ НА ОБЩИНА ЕЛЕНА:
B31: /Л.Камбуров/ | J31: /С.Топалов/

Sheet Мес прот
A1: Приложение № 1 към договор за обществена поръчка
A2: oт 11.08.2008 г.
A4: Изпълнител: “Титан-Клинър” ООД гр. Кърджали
A5: Инвеститор: Община Елена
A7: ПРОТОКОЛ №1
A8: За установяване на цената на извършените работи | H8: брой съдове
A9: към 31.01.2009 г. | H9: бобър | J9: =SUM('Разполож съдове'!E124:F124) -> 135
H10: кофи | J10: =SUM('Разполож съдове'!G124:H124,'Разполож съдове'!I124:J124) -> 2007 | U10: 1
A11: Днес, .02.2009 г., подписаните представители на Инвеститора
A12: Любомир Камбуров……………….………………….. …..и на Изпълнителя
A13: Иван Иванов ………….…..........…………………… ………..след проверка
A14: установихме, че към……………31.01.2009 г.…………………..са извършени
A15: и подлежат на заплащане въз основа на този протокол следният вид работа:
J16: 1 | K16: 2 | L16: 3 | M16: 4 | N16: 5 | O16: 6 | P16: 7 | Q16: 8 | R16: 9 | S16: 10 | T16: 11 | U16: 12 | V16: 13 | W16: 14 | X16: 15 | Y16: 16 | Z16: 17 | AA16: 18 | AB16: 19 | AC16: 20 | AD16: 21 | AE16: 22 | AF16: 23 | AG16: 24 | AH16: 25 | AI16: 26 | AJ16: 27 | AK16: 28 | AL16: 29 | AM16: 30 | AN16: 31
A17: № | B17: Операции | C17: Мярка | D17: Обем | E17: Единична цена /лв/ | F17: Месечна цена /лв/ | J17: Н | L17: Н | M17: Н | S17: Н | T17: Н | Z17: Н | AA17: Н | AG17: Н | AH17: Н | AN17: Н
A18: 1 | B18: Сметоизвозване на ТБО от специализирани съдове Община Елена | C18: м/см | D18: =I18 -> 10.5 | E18: 419.23 | F18: =D18*E18 -> 4401.915 | I18: =SUM(J18:AN18)/8 -> 10.5 | K18: 4 | N18: 4 | O18: 4 | P18: 4 | Q18: 4 | R18: 4 | U18: 4 | V18: 4 | W18: 4 | X18: 4 | Y18: 4 | AB18: 4 | AC18: 4 | AD18: 4 | AE18: 4 | AF18: 4 | AI18: 4 | AJ18: 4 | AK18: 4 | AL18: 4 | AM18: 4
A19: 2 | B19: Сметоизвозване на ТБО от специализирани съдове Община Елена | C19: м/см | D19: =I19 -> 2 | E19: 427.03 | F19: =D19*E19 -> 854.06 | I19: =SUM(J19:AN19)/8 -> 2 | O19: 2 | Q19: 2 | V19: 2 | X19: 2 | AC19: 2 | AE19: 2 | AJ19: 2 | AL19: 2
A20: 3 | B20: Сметоизвозване на други отпадъци Община Елена | C20: м/см | D20: =I20 -> 6.5 | E20: 214.87 | F20: =D20*E20 -> 1396.655 | I20: =SUM(J20:AN20)/8 -> 6.5 | K20: 4 | N20: 4 | P20: 4 | R20: 4 | U20: 4 | W20: 4 | Y20: 4 | AB20: 4 | AD20: 4 | AF20: 4 | AI20: 4 | AK20: 4 | AM20: 4
A21: 4 | B21: Машинно метене | C21: м/см | D21: =I21 -> 0 | E21: 475.8 | F21: =D21*E21 -> 0 | I21: =SUM(J21:AN21)/8 -> 0
A22: 5 | B22: Почистване на улици и територии за обществено ползване гр. Елена | C22: ч/дни | D22: =I22 -> 72 | E22: 30.07 | F22: =D22*E22 -> 2165.04 | I22: =SUM(J22:AN22) -> 72 | K22: 2 | AB22: 7 | AC22: 7 | AD22: 7 | AE22: 7 | AF22: 7 | AI22: 7 | AJ22: 7 | AK22: 7 | AL22: 7 | AM22: 7
A23: 6 | B23: Поддържане на зелени площи гр. Елена | C23: ч/дни | D23: =I23 -> 22 | E23: 30.07 | F23: =D23*E23 -> 661.54 | I23: =SUM(J23:AN23) -> 22 | K23: 2 | AB23: 2 | AC23: 2 | AD23: 2 | AE23: 2 | AF23: 2 | AI23: 2 | AJ23: 2 | AK23: 2 | AL23: 2 | AM23: 2
A24: 7 | B24: Поддържане на тревни площи | C24: анализ | D24: =I24 -> 0 | E24: 1589.86 | F24: =D24*E24 -> 0 | I24: =SUM(J24:AN24) -> 0
A25: 8 | B25: Поддържане на едногодишни цветя във фигури | C25: анализ | D25: =I25 -> 0 | E25: 322.39 | F25: =D25*E25 -> 0 | I25: =SUM(J25:AN25) -> 0
A26: 9 | B26: Поддържане на рози | C26: анализ | D26: =I26 -> 0 | E26: 4.85 | F26: =D26*E26 -> 0 | I26: =SUM(J26:AN26) -> 0
A27: 10 | B27: Поддържане на живи плетова | C27: анализ | D27: =I27 -> 0 | E27: 13.44 | F27: =D27*E27 -> 0 | I27: =SUM(J27:AN27) -> 0
A28: 11 | B28: Поддържане на декоративни храсти - единични и в групи | C28: анализ | D28: =I28 -> 0 | E28: 43.44 | F28: =D28*E28 -> 0 | I28: =SUM(J28:AN28) -> 0
A29: 12 | B29: Поддържане на дървета | C29: анализ | D29: =I29 -> 0 | E29: 40.92 | F29: =D29*E29 -> 0 | I29: =SUM(J29:AN29) -> 0
A30: 13 | B30: Поддържане на алеи и площадки | C30: анализ | D30: =I30 -> 0 | E30: 485.66 | F30: =D30*E30 -> 0 | I30: =SUM(J30:AN30) -> 0
A31: 14 | B31: Снегопочистване на тротоари по улици и площади в гр. Елена | C31: ч/дни | D31: =I31 -> 95 | E31: 30.07 | F31: =D31*E31 -> 2856.65 | I31: =SUM(J31:AN31) -> 95 | N31: 9 | O31: 9 | P31: 9 | Q31: 9 | R31: 9 | S31: 5 | U31: 9 | V31: 9 | W31: 9 | X31: 9 | Y31: 9
E32: В С И Ч К О : | F32: =SUM(F18:F31) -> 12335.86 | H32: депо | I32: =SUM(J32:AN32) -> 1 | AD32: 1
E33: 20 % ДДС : | F33: =F32*20% -> 2467.172
E34: ВСИЧКО С ДДС : | F34: =SUM(F32:F33) -> 14803.032 | G34: седмично обслужване
B35: /необлагаеми с ДДС дейности/ | G35: 1 | H35: 2
A36: 1 | B36: Сметосъбиране на ТБО от специализ. съдове тип "Бобър" | C36: бр.обсл | D36: =SUM(G36:H36)*I36 -> 692 | E36: 0.1 | F36: =SUM(D36*E36) -> 69.2 | G36: =SUM('Разполож съдове'!$E$122:$F$122) -> 97 | H36: =SUM('Разполож съдове'!$E$83:$F$83)*H35 -> 76 | I36: =SUM(J36:AN36) -> 4 | P36: 1 | V36: 1 | AD36: 1 | AK36: 1
A37: 2 | B37: Сметосъбиране на ТБО от специализ. съдове тип "кофа" | C37: бр.обсл | D37: =SUM(G37:H37)*I36 -> 9104 | E37: 0.05 | F37: =SUM(D37*E37) -> 455.2 | G37: =SUM('Разполож съдове'!$G$122:$J$122) -> 1738 | H37: =SUM('Разполож съдове'!$G$83:$J$83)*2 -> 538
A38: 3 | B38: Поддържане на депото в гр. Елена местността “Поп Сотиров гроб” | C38: м/см | D38: =I32 -> 1 | E38: 430.56 | F38: =SUM(D38*E38) -> 430.56
E39: ВСИЧКО БЕЗ ДДС : | F39: =SUM(F36:F38) -> 954.96
E42: ОБЩО ЗА МЕСЕЦА : | F42: =SUM(F34,F39) -> 15757.992
B44: Настоящия изготвен на основание ежедневни протоколи.
B48: ВЪЗЛОЖИТЕЛ:……………… | C48: ИЗПЪЛНИТЕЛ:…………….
...

Sheet Ежедн прот
A1: ЕЖЕДНЕВЕН КОНСТАТИВЕН ПРОТОКОЛ
B3: Днес, | C3: 2 | D3: .01.2009 г. Любомир Александров Камбуров, ст.специалист „КЧ” в община Елена,
D4: /дата/ /Трите имена на проверяващия/
A5: извърших проверка на извършената работа по дейности и маршрути, както следва:
G6: 8 | H6: 13 | I6: 19 | J6: 23 | K6: 29
A7: 1. | B7: Сметоизвозване на ТБО от специализирани съдове Община Елена | E7: - | F7: ='Мес прот'!K18 -> 4 | G7: ='Мес прот'!Q18 -> 4 | H7: ='Мес прот'!V18 -> 4 | I7: ='Мес прот'!AB18 -> 4 | J7: ='Мес прот'!AF18 -> 4 | K7: ='Мес прот'!AL18 -> 4 | L7: моточаса
A8: 2. | B8: Сметоизвозване на ТБО от специализирани съдове Община Елена | E8: - | F8: ='Мес прот'!K19 -> 0 | G8: ='Мес прот'!Q19 -> 2 | H8: ='Мес прот'!V19 -> 2 | I8: ='Мес прот'!AB19 -> 0 | J8: ='Мес прот'!AF19 -> 0 | K8: ='Мес прот'!AL19 -> 2 | L8: моточаса
A9: 3. | B9: Сметоизвозване на други отпадъци Община Елена | E9: - | F9: ='Мес прот'!K20 -> 4 | G9: ='Мес прот'!Q20 -> 0 | H9: ='Мес прот'!V20 -> 0 | I9: ='Мес прот'!AB20 -> 4 | J9: ='Мес прот'!AF20 -> 4 | K9: ='Мес прот'!AL20 -> 0 | L9: моточаса
A10: 4. | B10: Машинно метене | E10: - | F10: ='Мес прот'!K21 -> 0 | G10: ='Мес прот'!Q21 -> 0 | H10: ='Мес прот'!V21 -> 0 | I10: ='Мес прот'!AB21 -> 0 | J10: ='Мес прот'!AF21 -> 0 | K10: ='Мес прот'!AL21 -> 0 | L10: моточаса
A11: 5. | B11: Почистване на улици и територии за обществено ползване гр. Елена | E11: - | F11: ='Мес прот'!K22 -> 2 | G11: ='Мес прот'!Q22 -> 0 | H11: ='Мес прот'!V22 -> 0 | I11: ='Мес прот'!AB22 -> 7 | J11: ='Мес прот'!AF22 -> 7 | K11: ='Мес прот'!AL22 -> 7 | L11: човекодни
A12: 6. | B12: Поддържане на зелени площи гр. Елена | E12: - | F12: ='Мес прот'!K23 -> 2 | G12: ='Мес прот'!Q23 -> 0 | H12: ='Мес прот'!V23 -> 0 | I12: ='Мес прот'!AB23 -> 2 | J12: ='Мес прот'!AF23 -> 2 | K12: ='Мес прот'!AL23 -> 2 | L12: човекодни
C13: Поддържане на тревни площи | E13: - | F13: ='Мес прот'!K24 -> 0 | G13: ='Мес прот'!Q24 -> 0 | H13: ='Мес прот'!V24 -> 0 | I13: ='Мес прот'!AB24 -> 0 | J13: ='Мес прот'!AF24 -> 0 | K13: ='Мес прот'!AL24 -> 0 | L13: по анализ
C14: Поддържане на едногодишни цветя във фигури | E14: - | F14: ='Мес прот'!K25 -> 0 | G14: ='Мес прот'!Q25 -> 0 | H14: ='Мес прот'!V25 -> 0 | I14: ='Мес прот'!AB25 -> 0 | J14: ='Мес прот'!AF25 -> 0 | K14: ='Мес прот'!AL25 -> 0 | L14: по анализ
C15: Поддържане на рози | E15: - | F15: ='Мес прот'!K26 -> 0 | G15: ='Мес прот'!Q26 -> 0 | H15: ='Мес прот'!V26 -> 0 | I15: ='Мес прот'!AB26 -> 0 | J15: ='Мес прот'!AF26 -> 0 | K15: ='Мес прот'!AL26 -> 0 | L15: по анализ
C16: Поддържане на живи плетова | E16: - | F16: ='Мес прот'!K27 -> 0 | G16: ='Мес прот'!Q27 -> 0 | H16: ='Мес прот'!V27 -> 0 | I16: ='Мес прот'!AB27 -> 0 | J16: ='Мес прот'!AF27 -> 0 | K16: ='Мес прот'!AL27 -> 0 | L16: по анализ
C17: Поддържане на декоративни храсти - единични и в групи | E17: - | F17: ='Мес прот'!K28 -> 0 | G17: ='Мес прот'!Q28 -> 0 | H17: ='Мес прот'!V28 -> 0 | I17: ='Мес прот'!AB28 -> 0 | J17: ='Мес прот'!AF28 -> 0 | K17: ='Мес прот'!AL28 -> 0 | L17: по анализ
C18: Поддържане на дървета | E18: - | F18: ='Мес прот'!K29 -> 0 | G18: ='Мес прот'!Q29 -> 0 | H18: ='Мес прот'!V29 -> 0 | I18: ='Мес прот'!AB29 -> 0 | J18: ='Мес прот'!AF29 -> 0 | K18: ='Мес прот'!AL29 -> 0 | L18: по анализ
C19: Поддържане на алеи и площадки | E19: - | F19: ='Мес прот'!K30 -> 0 | G19: ='Мес прот'!Q30 -> 0 | H19: ='Мес прот'!V30 -> 0 | I19: ='Мес прот'!AB30 -> 0 | J19: ='Мес прот'!AF30 -> 0 | K19: ='Мес прот'!AL30 -> 0 | L19: по анализ
A20: 7. | B20: Снегопочистване на тротоари по улици и площади в гр. Елена | E20: - | F20: ='Мес прот'!K31 -> 0 | G20: ='Мес прот'!Q31 -> 9 | H20: ='Мес прот'!V31 -> 9 | I20: ='Мес прот'!AB31 -> 0 | J20: ='Мес прот'!AF31 -> 0 | K20: ='Мес прот'!AL31 -> 0 | L20: човекодни
A21: 8. | B21: Поддържане на депото в гр. Елена местността “Поп Сотиров гроб” | E21: - | F21: ='Мес прот'!K32 -> 0 | G21: ='Мес прот'!Q32 -> 0 | H21: ='Мес прот'!V32 -> 0 | I21: ='Мес прот'!AB32 -> 0 | J21: ='Мес прот'!AF32 -> 0 | K21: ='Мес прот'!AL32 -> 0 | L21: моточаса
A25: ИЗПЪЛНИТЕЛ:……………. | E25: ВЪЗЛОЖИТЕЛ:………………
A26: “Титан-Клинър” ООД гр. Кърджали | E26: Община Елена
A27: Оргониз. производство /Иван Иванов/ | E27: Ст. специалист “КЧ” /Л. Камбуров/
A30: ЕЖЕДНЕВЕН КОНСТАТИВЕН ПРОТОКОЛ
B32: Днес, | C32: 5 | D32: =D3 -> .01.2009 г. Любомир Александров Камбуров, ст.специалист „КЧ” в община Елена,
D33: /дата/ /Трите имена на проверяващия/
A34: извърших проверка на извършената работа по дейности и маршрути, както следва:
G35: 9 | H35: 14 | I35: 20 | J35: 26 | K35: 30
A36: 1. | B36: Сметоизвозване на ТБО от специализирани съдове Община Елена | E36: - | F36: ='Мес прот'!N18 -> 4 | G36: ='Мес прот'!R18 -> 4 | H36: ='Мес прот'!W18 -> 4 | I36: ='Мес прот'!AC18 -> 4 | J36: ='Мес прот'!AI18 -> 4 | K36: ='Мес прот'!AM18 -> 4 | L36: моточаса
A37: 2. | B37: Сметоизвозване на ТБО от специализирани съдове Община Елена | E37: - | F37: ='Мес прот'!N19 -> 0 | G37: ='Мес прот'!R19 -> 0 | H37: ='Мес прот'!W19 -> 0 | I37: ='Мес прот'!AC19 -> 2 | J37: ='Мес прот'!AI19 -> 0 | K37: ='Мес прот'!AM19 -> 0 | L37: моточаса
A38: 3. | B38: Сметоизвозване на други отпадъци Община Елена | E38: - | F38: ='Мес прот'!N20 -> 4 | G38: ='Мес прот'!R20 -> 4 | H38: ='Мес прот'!W20 -> 4 | I38: ='Мес прот'!AC20 -> 0 | J38: ='Мес прот'!AI20 -> 4 | K38: ='Мес прот'!AM20 -> 4 | L38: моточаса
A39: 4. | B39: Машинно метене | E39: - | F39: ='Мес прот'!N21 -> 0 | G39: ='Мес прот'!R21 -> 0 | H39: ='Мес прот'!W21 -> 0 | I39: ='Мес прот'!AC21 -> 0 | J39: ='Мес прот'!AI21 -> 0 | K39: ='Мес прот'!AM21 -> 0 | L39: моточаса
A40: 5. | B40: Почистване на улици и територии за обществено ползване гр. Елена | E40: - | F40: ='Мес прот'!N22 -> 0 | G40: ='Мес прот'!R22 -> 0 | H40: ='Мес прот'!W22 -> 0 | I40: ='Мес прот'!AC22 -> 7 | J40: ='Мес прот'!AI22 -> 7 | K40: ='Мес прот'!AM22 -> 7 | L40: човекодни
A41: 6. | B41: Поддържане на зелени площи гр. Елена | E41: - | F41: ='Мес прот'!N23 -> 0 | G41: ='Мес прот'!R23 -> 0 | H41: ='Мес прот'!W23 -> 0 | I41: ='Мес прот'!AC23 -> 2 | J41: ='Мес прот'!AI23 -> 2 | K41: ='Мес прот'!AM23 -> 2 | L41: човекодни
C42: Поддържане на тревни площи | E42: - | F42: ='Мес прот'!N24 -> 0 | G42: ='Мес прот'!R24 -> 0 | H42: ='Мес прот'!W24 -> 0 | I42: ='Мес прот'!AC24 -> 0 | J42: ='Мес прот'!AI24 -> 0 | K42: ='Мес прот'!AM24 -> 0 | L42: по анализ
C43: Поддържане на едногодишни цветя във фигури | E43: - | F43: ='Мес прот'!N25 -> 0 | G43: ='Мес прот'!R25 -> 0 | H43: ='Мес прот'!W25 -> 0 | I43: ='Мес прот'!AC25 -> 0 | J43: ='Мес прот'!AI25 -> 0 | K43: ='Мес прот'!AM25 -> 0 | L43: по анализ
C44: Поддържане на рози | E44: - | F44: ='Мес прот'!N26 -> 0 | G44: ='Мес прот'!R26 -> 0 | H44: ='Мес прот'!W26 -> 0 | I44: ='Мес прот'!AC26 -> 0 | J44: ='Мес прот'!AI26 -> 0 | K44: ='Мес прот'!AM26 -> 0 | L44: по анализ
C45: Поддържане на живи плетова | E45: - | F45: ='Мес прот'!N27 -> 0 | G45: ='Мес прот'!R27 -> 0 | H45: ='Мес прот'!W27 -> 0 | I45: ='Мес прот'!AC27 -> 0 | J45: ='Мес прот'!AI27 -> 0 | K45: ='Мес прот'!AM27 -> 0 | L45: по анализ
C46: Поддържане на декоративни храсти - единични и в групи | E46: - | F46: ='Мес прот'!N28 -> 0 | G46: ='Мес прот'!R28 -> 0 | H46: ='Мес прот'!W28 -> 0 | I46: ='Мес прот'!AC28 -> 0 | J46: ='Мес прот'!AI28 -> 0 | K46: ='Мес прот'!AM28 -> 0 | L46: по анализ
C47: Поддържане на дървета | E47: - | F47: ='Мес прот'!N29 -> 0 | G47: ='Мес прот'!R29 -> 0 | H47: ='Мес прот'!W29 -> 0 | I47: ='Мес прот'!AC29 -> 0 | J47: ='Мес прот'!AI29 -> 0 | K47: ='Мес прот'!AM29 -> 0 | L47: по анализ
...

Sheet КСС зел пл
H4: Мин.раб.запл. 2008 г. | J4: ='Разбивка цена'!B1 -> 240
A5: І. | B5: ПОДДЪРЖАНЕ НА ТРЕВНИ ПЛОЩИ
A6: № | B6: поз. по ЕТНС | C6: Видове операции | D6: мярка | E6: ед. колич | F6: повторяемост | G6: общо колич | H6: ед.цена % МРЗ | I6: общо % МРЗ | J6: лв.спрямо МРЗ | K6: % за 1 месец | L6: лв за 1 месец
A7: 1 | B7: 9/170 | C7: Грапене на тревни площи /преди вегитация | D7: дка | E7: 90 | F7: 1 | G7: 90 | H7: 9.35 | I7: 841.1 | J7: =$J$4*I7/100 -> 2018.64 | K7: =I7/12 -> 70.091667 | L7: =J4*K7% -> 168.22
A8: 2 | B8: 9/171 | C8: Грапене на тревни площи /след приключване на сезона | D8: дка | E8: 90 | F8: 1 | G8: 90 | H8: 12.71 | I8: 1144.04 | J8: =$J$4*I8/100 -> 2745.696 | K8: =I8/12 -> 95.336667 | L8: =J4*K8% -> 228.808
A9: 3 | B9: 9/170 | C9: Грапене на тревни площи /след коситба | D9: дка | E9: 90 | F9: 1 | G9: 90 | H9: 10.79 | I9: 971.19 | J9: =$J$4*I9/100 -> 2330.856 | K9: =I9/12 -> 80.9325 | L9: =J4*K9% -> 194.238
A10: 4 | B10: 9/168 | C10: Окантяване на тревни бордюри с бел | D10: дка | E10: 90 | F10: 1 | G10: 90 | H10: 0.36 | I10: 32.08 | J10: =$J$4*I10/100 -> 76.992 | K10: =I10/12 -> 2.6733333 | L10: =J4*K10% -> 6.416
A11: 5 | B11: 183 | C11: Косене на тревни площи машинно | D11: дка | E11: 90 | F11: 2 | G11: 180 | H11: 11.55 | I11: 2079 | J11: =$J$4*I11/100 -> 4989.6 | K11: =I11/12 -> 173.25 | L11: =J4*K11% -> 415.8
A12: 6 | B12: 185 | C12: Събиране на окосена трева /І и ІІ коситба/ | D12: дка | E12: 90 | F12: 2 | G12: 180 | H12: 3.92 | I12: 705.67 | J12: =$J$4*I12/100 -> 1693.608 | K12: =I12/12 -> 58.805833 | L12: =J4*K12% -> 141.134
A13: 7 | B13: 186 | C13: Събиране на окосена трева /ІІІ и ІV коситба/ | D13: дка | E13: 90 | F13: 2 | G13: 180 | H13: 3.33 | I13: 598.75 | J13: =$J$4*I13/100 -> 1437 | K13: =I13/12 -> 49.895833 | L13: =J4*K13% -> 119.75
A14: 8 | B14: 204 | C14: Аериране на тревни площи | D14: дка | E14: 5 | F14: 1 | G14: 5 | H14: 10.89 | I14: 54.45 | J14: =$J$4*I14/100 -> 130.68 | K14: =I14/12 -> 4.5375 | L14: =J4*K14% -> 10.89
A15: 9 | B15: 193 | C15: Поливане на тревни площи с маркуч | D15: дка | E15: 90 | F15: 2 | G15: 180 | H15: 8.46 | I15: 1523.02 | J15: =$J$4*I15/100 -> 3655.248 | K15: =I15/12 -> 126.91833 | L15: =J4*K15% -> 304.604
C16: ОБЩО | I16: =SUM(I7:I15) -> 7949.3 | J16: =SUM(J7:J15) -> 19078.32 | K16: =SUM(K7:K15) -> 662.44167 | L16: =SUM(L7:L15) -> 1589.86 | M16: лв
A18: ІІ. | B18: ПОДДЪРЖАНЕ НА ЕДНОГОДИШНИ ЦВЕТЯ ВЪВ ФИГУРИ
A19: № | B19: поз. по ЕТНС | C19: Видове операции | D19: мярка | E19: ед. колич | F19: повторяемост | G19: общо колич | H19: ед.цена % МРЗ | I19: общо % МРЗ | J19: лв.спрямо МРЗ | K19: % за 1 месец | L19: лв за 1 месец
A20: 10 | B20: 9/107 | C20: Внасяне допълнителна почва и дълбока обработка | D20: дка | E20: 0.3 | F20: 1 | G20: 0.3 | H20: 10.3 | I20: 3.09 | J20: =$J$4*I20/100 -> 7.416 | K20: =I20/12 -> 0.2575 | L20: =J4*K20% -> 0.618
A21: 11 | B21: 93 | C21: Прекопаване преди засаждане | D21: дка | E21: 0.3 | F21: 1 | G21: 0.3 | H21: 7.72 | I21: 2.32 | J21: =$J$4*I21/100 -> 5.568 | K21: =I21/12 -> 0.19333333 | L21: =J4*K21% -> 0.464
A22: 12 | B22: 120/21/1 | C22: Цветно оформяне - сезонни цветя | D22: м2 | E22: 300 | F22: 2 | G22: 600000 | H22: 1.1 | I22: 658.15 | J22: =$J$4*I22/100 -> 1579.56 | K22: =I22/12 -> 54.845833 | L22: =J4*K22% -> 131.63
A23: 13 | B23: 324 | C23: Поливане цветни фигури с маркуч | D23: м2 | E23: 300 | F23: 5 | G23: 1500000 | H23: 0.54 | I23: 811.8 | J23: =$J$4*I23/100 -> 1948.32 | K23: =I23/12 -> 67.65 | L23: =J4*K23% -> 162.36
A24: 14 | B24: 327 | C24: Прашене на цветни фигури с мотика | D24: м2 | E24: 300 | F24: 2 | G24: 600000 | H24: 0.08 | I24: 47.52 | J24: =$J$4*I24/100 -> 114.048 | K24: =I24/12 -> 3.96 | L24: =J4*K24% -> 9.504
A25: 15 | B25: 335 | C25: Лятна резидба на цветята | D25: м2 | E25: 300 | F25: 2 | G25: 600000 | H25: 0.15 | I25: 89.1 | J25: =$J$4*I25/100 -> 213.84 | K25: =I25/12 -> 7.425 | L25: =J4*K25% -> 17.82
C26: ОБЩО | I26: =SUM(I20:I25) -> 1611.98 | J26: =SUM(J20:J25) -> 3868.752 | K26: =SUM(K20:K25) -> 134.33167 | L26: =SUM(L20:L25) -> 322.396 | M26: лв
A28: ІІІ. | B28: ПОДДЪРЖАНЕ НА РОЗИ
A29: № | B29: поз. по ЕТНС | C29: Видове операции | D29: мярка | E29: ед. колич | F29: повторяемост | G29: общо колич | H29: ед.цена % МРЗ | I29: общо % МРЗ | J29: лв.спрямо МРЗ | K29: % за 1 месец | L29: лв за 1 месец
A30: 16 | B30: 269 | C30: Резитба на рози - есенна | D30: м2 | E30: 10 | F30: 1 | G30: 10 | H30: 0.13 | I30: 1.29 | J30: =$J$4*I30/100 -> 3.096 | K30: =I30/12 -> 0.1075 | L30: =J4*K30% -> 0.258
A31: 17 | B31: 297 | C31: Резитба на рози - лятна | D31: м2 | E31: 10 | F31: 2 | G31: 20 | H31: 0.11 | I31: 2.22 | J31: =$J$4*I31/100 -> 5.328 | K31: =I31/12 -> 0.185 | L31: =J4*K31% -> 0.444
A32: 18 | B32: 270 | C32: Окопаване на рози | D32: м2 | E32: 10 | F32: 2 | G32: 20 | H32: 0.24 | I32: 4.75 | J32: =$J$4*I32/100 -> 11.4 | K32: =I32/12 -> 0.39583333 | L32: =J4*K32% -> 0.95
A33: 19 | B33: 265 | C33: Зазимяване на рози | D33: м2 | E33: 10 | F33: 1 | G33: 10 | H33: 0.42 | I33: 4.16 | J33: =$J$4*I33/100 -> 9.984 | K33: =I33/12 -> 0.34666667 | L33: =J4*K33% -> 0.832
A34: 20 | B34: 1116 | C34: Санитарно пръскане | D34: л | E34: 10 | F34: 1 | G34: 10 | H34: 0.98 | I34: 9.79 | J34: =$J$4*I34/100 -> 23.496 | K34: =I34/12 -> 0.81583333 | L34: =J4*K34% -> 1.958
A35: 21 | B35: 196 | C35: Подхранване на рози | D35: м2 | E35: 10 | F35: 1 | G35: 10 | H35: 0.21 | I35: 2.08 | J35: =$J$4*I35/100 -> 4.992 | K35: =I35/12 -> 0.17333333 | L35: =J4*K35% -> 0.416
C36: ОБЩО | I36: =SUM(I30:I35) -> 24.29 | J36: =SUM(J30:J35) -> 58.296 | K36: =SUM(K30:K35) -> 2.0241667 | L36: =SUM(L30:L35) -> 4.858 | M36: лв
A38: ІV. | B38: ПОДДЪРЖАНЕ НА ЖИВИ ПЛЕТОВЕ
A39: № | B39: поз. по ЕТНС | C39: Видове операции | D39: мярка | E39: ед. колич | F39: повторяемост | G39: общо колич | H39: ед.цена % МРЗ | I39: общо % МРЗ | J39: лв.спрямо МРЗ | K39: % за 1 месец | L39: лв за 1 месец
A40: 22 | B40: 260 | C40: Окопаване на жив плет | D40: 10 м2 | E40: 10 | F40: 2 | G40: 20 | H40: 1.37 | I40: 27.32 | J40: =$J$4*I40/100 -> 65.568 | K40: =I40/12 -> 2.2766667 | L40: =$J$4*K40% -> 5.464
A41: 23 | B41: 324 | C41: Поливане на жив плет | D41: 11 м2 | E41: 10 | F41: 3 | G41: 30 | H41: 0.65 | I41: 19.4 | J41: =$J$4*I41/100 -> 46.56 | K41: =I41/12 -> 1.6166667 | L41: =$J$4*K41% -> 3.88
A42: 24 | B42: 302 | C42: Резитба на жив плет за оформяне - машинно | D42: 12 м2 | E42: 10 | F42: 1 | G42: 10 | H42: 2.04 | I42: 20.45 | J42: =$J$4*I42/100 -> 49.08 | K42: =I42/12 -> 1.7041667 | L42: =$J$4*K42% -> 4.09
C43: ОБЩО | I43: =SUM(I40:I42) -> 67.17 | J43: =SUM(J40:J42) -> 161.208 | K43: =SUM(K40:K42) -> 5.5975 | L43: =SUM(L40:L42) -> 13.434 | M43: лв
A45: V. | B45: ПОДДЪРЖАНЕ НА ДЕКОРАТИВНИ ХРАСТИ - ЕДИНИЧНО И В ГРУПИ
A46: № | B46: поз. по ЕТНС | C46: Видове операции | D46: мярка | E46: ед. колич | F46: повторяемост | G46: общо колич | H46: ед.цена % МРЗ | I46: общо % МРЗ | J46: лв.спрямо МРЗ | K46: % за 1 месец | L46: лв за 1 месец
A47: 25 | B47: 290 | C47: Санитарна резитба на късно цъфтящи храсти | D47: м2 | E47: 100 | F47: 1 | G47: 100 | H47: 1.11 | I47: 110.88 | J47: =$J$4*I47/100 -> 266.112 | K47: =I47/12 -> 9.24 | L47: =$J$4*K47% -> 22.176
...
