Workbook

Sheet Разполож съдове
G1: собственик
E2: община | F2: фирма | G2: община | H2: фирма | I2: община | J2: фирма
A3: № | B3: кметство, км.наместничество | C3: населено място | D3: улица | E3: 1.1 | F3: 1.1 | G3: 0.24 | H3: 0.24 | I3: 0.1 | J3: 0.1
A4: 1 | B4: Елена | C4: гр.Елена | D4: Васил Левски | G4: 79
A5: 2 | D5: Ст. Планина | G5: 19
A6: 3 | D6: Теодор Теодоров | G6: 16
A7: 4 | D7: Напредък | G7: 5
A8: 5 | D8: Н.П.Константинов | F8: 5 | H8: 14
A9: 6 | D9: Ил.Макариополски
D10: Кирилов | E10: 2 | F10: 3
A11: 7 | D11: Робовска
A12: 8 | D12: Малина
A13: 9 | D13: Самуилец
A14: 10 | D14: Велчова Завера
A15: 12 | D15: И.Й.Брадати
A16: 13 | D16: Църковна
A17: 14 | D17: Балкан
A18: 15 | D18: Спортист
A19: 16 | D19: Ген Домбровски
A20: 17 | D20: църква
A21: 18 | D21: Кършовска
A22: 19 | D22: час кула
... A26: 23 | D26: Възрожденска
A27: 24 | D27: Ст.Михайловски | J27: 1
A28: 25 | D28: фурната
A29: 26 | D29: Чумерна
A30: 27 | D30: Крайбрежна
A31: 28 | D31: Орловска
A32: 29 | D32: Чуката
A33: 30 | D33: Опълченска
A34: 31 | D34: Оборище
A35: 32 | D35: Костовска
A36: 33 | D36: Крайбрежна
A37: 34 | D37: Осми март
A38: 35 | D38: Теменуга
A39: 36 | D39: Синчец
... A49: 46 | D49: Х.Й.Брадата
A50: 47 | D50: д-р Брадел | F50: 2 | H50: 1
A51: 48 | D51: Д.Болерци | J51: 7
A52: 49 | D52: Казаци | F52: 1
A53: 50 | D53: Шейтани | F53: 3 | I53: 2 | J53: 1
A54: 51 | D54: Пърчевци | F54: 1 | I54: 2 | J54: 12
A55: 52 | D55: Неювци | H55: 1 | J55: 4
A56: 53 | D56: Майтанеци | I56: 5
A57: 54 | D57: Недешковци | H57: 1 | J57: 3
A58: 55 | D58: Милковци | F58: 2
A59: 56 | D59: Килъжевци | F59: 2 | I59: 2 | J59: 9
A60: 57 | D60: Синджирци | I60: 2 | J60: 9
A61: 58 | D61: Разпоповци | H61: 2 | I61: 4 | J61: 20
A62: 59 | D62: Д.Чукани | F62: 1 | H62: 3 | I62: 2 | J62: 8
A63: 60 | C63: Промишлин квартал | D63: стопански двор
A64: 61 | C64: 3-ти март | D64: ремаркета
A65: 62 | D65: Юнишибс
A66: 63 | D66: сервиз | F66: 1
A67: 64 | D67: родопа | F67: 2 | H67: 2
A68: 65 | D68: мандра | F68: 2 | H68: 12
A69: 66 | D69: ЗВД | H69: 2 | J69: 2
A70: 67 | D70: ЗСС | F70: 1
A71: 68 | D71: бензиностанции | F71: 3
A72: 69 | D72: Д.Георгиев | F72: 2
A73: 70 | D73: ДАП | F73: 1
A74: 71 | D74: ЗУМП | F74: 1
A75: 72 | D75: Въчкова | F75: 1
A76: 73 | D76: гатер | H76: 1
A77: 74 | D77: БКС | I77: 2
A78: 75 | D78: Търговия едро | F78: 1 | H78: 2 | J78: 2
A79: 76 | D79: РПК | H79: 1
A80: 77 | D80: ЕРПЕА | H80: 8
A81: 78 | D81: Тихия кът | F81: 1
A82: 79 | D82: Перун паметника | H82: 1
B83: БРОЙ ОБСЛУЖВАНЕ 2 пъти седмично | E83: =SUM(E4:E82) -> 2 | F83: =SUM(F4:F82) -> 36 | G83: =SUM(G4:G82) -> 119 | H83: =SUM(H4:H82) -> 51 | I83: =SUM(I4:I82) -> 21 | J83: =SUM(J4:J82) -> 78
A84: 80 | B84: Беброво | C84: с.Беброво | F84: 2 | I84: 83
A85: 81 | B85: Блъсковци | C85: с.Блъсковци | I85: 3 | J85: 14
A86: 82 | C86: Търкашени | J86: 6
A87: 83 | C87: Марафелци | I87: 4 | J87: 5
A88: 84 | C88: Титевци | J88: 6
A89: 85 | B89: Бойковци | C89: Бойковци | I89: 10
A90: 86 | C90: Светославци | I90: 5
A91: 87 | B91: Буйновци | C91: Буйновци | F91: 1 | I91: 46
A92: 88 | B92: Гърдевци | C92: Гърдевци | F92: 1 | I92: 18
A93: 89 | C93: Баевци | F93: 1 | I93: 7
A94: 90 | C94: Шилковци | G94: 1 | I94: 5
A95: 91 | B95: Дрента | C95: Дрента | I95: 45
A96: 92 | B96: Илаков рът | C96: Илаков рът | F96: 3 | I96: 28
A97: 93 | C97: Хъневци | I97: 8
A98: 94 | C98: Угорялковци | I98: 12
A99: 95 | B99: Каменари | C99: Каменари | H99: 6 | I99: 20
A100: 96 | B100: Константин | C100: Константин | F100: 5 | I100: 84
A101: 97 | B101: Костел | C101: Костел | F101: 1 | I101: 59
A102: 98 | C102: Граматици | D102: 2б 2пл | H102: 2 | I102: 2
A103: 99 | B103: Лазарци | C103: Лазарци | I103: 7
A104: 100 | C104: Велковци | I104: 5
A105: 101 | B105: Майско | C105: Майско | F105: 6 | I105: 97
A106: 102 | B106: Марян | C106: Марян | I106: 54
A107: 103 | B107: Мийковци | C107: Мийковци | F107: 6 | I107: 22
A108: 104 | B108: Палици | C108: Палици | F108: 1 | I108: 64
A109: 105 | B109: Руховци | C109: Руховци | F109: 1 | G109: 1 | H109: 1 | I109: 42
A110: 106 | C110: Христовци | I110: 4
A111: 107 | B111: Ср.колиби | C111: Ср.колиби | F111: 1 | I111: 20
A112: 108 | C112: Раевци | I112: 17
...

Sheet План-сметка
H1: Приложение № 1
A2: ПЛАН-СМЕТКА
A3: за приходи и необходимите средства за поддържане чистотата в гр.Елена и населените места съгласно
A4: Заповед №РД.02.05-517/11.12.2008 г. на кмета на община Елена
A6: І. | B6: Приходи
B7: Наименование | C7: Очаквани приходи
A8: 1. | B8: Такса битови отпадъци от предприятия, фирми и юридически лица | C8: 147425 | D8: лв.
A9: 2. | B9: Такса битови отпадъци от населението | C9: 138473 | D9: лв.
B10: Общо приходи | C10: =SUM(C8:E9) -> 285898 | D10: лв.
A12: ІІ. | B12: Разходи
B13: Наименование | C13: Осигуряване на нови съдове | D13: Сметосъбиране, сметоизвозване | E13: Поддръжка депо и мониторинг | F13: Улично по-чистване в т.ч. поддръжка зелени площи | G13: Отпечатване уведомителни писма | H13: Общо | I13: Забележка
A14: 1. | B14: Фирма изпълнител "Титан Клинър" ООД съгласно договор до 11,08,08 г. | C14: 0 | D14: 114461 | E14: 5167 | F14: 86107 | G14: 0 | H14: =SUM(C14:G14) -> 205735
B15: в т.ч. поддържане на зелени площи и улици | C15: 0 | D15: 0 | E15: 0 | F15: =F14 -> 86107 | G15: 0 | H15: =SUM(C15:G15) -> 86107
A16: 2. | B16: Община Елена | C16: =SUM(C17,C19:C22) -> 27000 | D16: =SUM(D17,D19:D22) -> 0 | E16: =SUM(E17,E19:E22) -> 16600 | F16: =SUM(F17,F19:F22) -> 27063 | G16: =SUM(G17,G19:G22) -> 9500 | H16: =SUM(C16:G16) -> 80163
A17: 2,1. | B17: За съдове за ТБО | C17: 27000 | D17: 0 | E17: 0 | F17: 0 | G17: 0 | H17: =SUM(C17:F17) -> 27000
B18: в т.ч. съдове за ТБО м.05 | C18: 27000 | D18: 0 | E18: 0 | F18: 0 | G18: 0 | H18: =SUM(C18:F18) -> 27000
A19: 2,2. | B19: За миене през 2009 г. | C19: 0 | D19: 0 | E19: 0 | F19: 7063 | G19: 0 | H19: =SUM(C19:G19) -> 7063
A20: 2,3. | B20: За мониторинг на депо за ТБО | C20: 0 | D20: 0 | E20: 16600 | F20: 0 | G20: 0 | H20: =SUM(C20:F20) -> 16600
A21: 2,4. | B21: За разходи по НП"ОСПОЗ" | C21: 0 | D21: 0 | E21: 0 | F21: 20000 | G21: 0 | H21: =SUM(C21:G21) -> 20000
A22: 2,5. | B22: Отпечатване уведомителни писма | C22: 0 | D22: 0 | E22: 0 | F22: 0 | G22: 9500 | H22: =SUM(C22:G22) -> 9500
B23: Общо разходи | C23: =SUM(C14,C16) -> 27000 | D23: =SUM(D14,D16) -> 114461 | E23: =SUM(E14,E16) -> 21767 | F23: =SUM(F14,F16) -> 113170 | G23: =SUM(G14,G16) -> 9500 | H23: =SUM(H14,H16) -> 285898
A26: Комисия съгласно заповедта:

Sheet Разбивка цена
A1: Минимална работна заплата | B1: 240 | E1: 2009 г.
A3: Цена за 1 м3 = | B3: =O9 -> 7.68672 | C3: лв/м3 Скания+ | E3: =O13 -> 16.116 | F3: лв/м3 ман+ | G3: =SUM(O17,O19,O21) -> 0.1224 | H3: лв ръчно обсл | J3: =O24 -> 0.92862745 | K3: миене | L3: =O28 -> 1.0448829 | M3: лв/м3 депо | N3: 1 м3 | O3: =SUM(B3,E3,G3,J3,L3) -> 25.89863
A6: "Скания" – 16 м3 | B6: 16 | C6: м3 пресован : | E6: 0.36 | F6: =B6/E6 -> 44.444444 | G6: м3 обемен
A7: 1 м/см = | B7: 1.5 | C7: курса = | E7: =B6*B7 -> 24 | F7: м3 пресован = | H7: =F6*B7 -> 66.666667 | I7: м3 обемен
A8: Цена съгласно оферта с ДДС | B8: 2.1352 | C8: от мин раб заплата
A9: 1 м/см – | B9: =B1*B8 -> 512.448 | C9: лв : | D9: =H7 -> 66.666667 | E9: м3 обемен | H9: =B9/D9 -> 7.68672 | I9: лв/1м3 | N9: лв/1м3 обемен | O9: =H9 -> 7.68672
A11: “МАН” – 4 м3 1 м/см = | B11: 4 | C11: курса Х | D11: 4 | E11: м3 = | F11: =B11*D11 -> 16 | G11: м3
A12: Цена съгласно оферта с ДДС | B12: 1.0744 | C12: от мин раб заплата
A13: 1 м/см = | B13: =B1*B12 -> 257.856 | C13: лв : | D13: =F11 -> 16 | E13: м3 = | F13: =B13/D13 -> 16.116 | G13: лв/1 м3 | N13: лв/м3 | O13: =F13 -> 16.116
B14: 1м/см х 21 раб.дни =........... лв. | G14: =B13*21 -> 5414.976 | H14: лв : | I14: =SUM(H37:H39) -> 2142 | J14: бр съдове = | L14: =G14/I14 -> 2.528 | M14: лв | O14: =L14 -> 2.528
A16: Събиране и изхвърляне отпадъци около един съд за едно обслужване:
A17: 1 "Бобър" | B17: =B1*B18 -> 0.096 | C17: лв/1обс/1съд Х | E17: =H37 -> 135 | F17: бр.съдове = | G17: =B17*E17 -> 12.96 | H17: лв | N17: за Бобар 1м3 | O17: =B17*1.1 -> 0.1056
A18: Цена съгласно оферта без ДДС | B18: 0.0004 | C18: от мин раб заплата
A19: 1 пл. кофа | B19: =B1*B20 -> 0.048 | C19: лв/1обс/1съд Х | E19: =SUM(H38) -> 708 | F19: бр.съдове = | G19: =B19*E19 -> 33.984 | H19: лв | N19: за 0,24 1м3 | O19: =B19*0.24 -> 0.01152
A20: Цена съгласно оферта без ДДС | B20: 0.0002 | C20: от мин раб заплата
A21: 1 мет. кофа | B21: =B1*B20 -> 0.048 | C21: лв/1обс/1съд Х | E21: =SUM(H39) -> 1299 | F21: бр.съдове = | G21: =B21*E21 -> 62.352 | H21: лв | N21: за0,11 1 м3 | O21: =B21*0.11 -> 0.00528
A22: Цена съгласно оферта без ДДС | B22: 0.0002 | C22: от мин раб заплата
A24: Автомиячка – 1 м/см = | B24: =B1*B25 -> 497.28 | C24: лв Х 4 м/см/ в год = | F24: =B24*4 -> 1989.12 | G24: лв : | H24: =SUM(H37:H39) -> 2142 | I24: бр съда = | J24: =F24/H24 -> 0.92862745 | K24: лв/1 съд / година | O24: =J24 -> 0.92862745
A25: Цена съгласно оферта с ДДС | B25: 2.072 | C25: от мин раб заплата
A27: Обслужване депо – мониторинг | B27: ='План-сметка'!E20 -> 16600 | C27: лв. + поддръжка на депото | G27: ='План-сметка'!E23-B27 -> 5167 | H27: лв = | I27: =SUM(B27,G27) -> 21767 | J27: лв. : 12 м = | L27: =I27/12 -> 1813.9167 | M27: лв/мес
B28: =L27 -> 1813.9167 | C28: лв/мес | D28: : | E28: 21 | F28: раб.дни = | G28: =B28/E28 -> 86.376984 | H28: лв/ден : | I28: =SUM(H7,F11) -> 82.666667 | J28: м3 за 1 ден = | L28: =G28/I28 -> 1.0448829 | M28: лв/ден/1м3 | O28: =L28 -> 1.0448829
A30: Булдозер 1 м/см = | B30: =B1*B31 -> 430.56 | C30: лв. | O30: =B30 -> 430.56
A31: Цена съгласно оферта без ДДС | B31: 1.794 | C31: от мин раб заплата
A33: Автометачка 1 м/см = | B33: =B1*B34 -> 570.96 | C33: лв.
A34: Цена съгласно оферта с ДДС | B34: 2.379 | C34: от мин раб заплата
G36: Разположени бр. съдове
A37: При цена за 1 съд с ДДС: | B37: 480 | C37: лв | D37: контейнер | H37: =SUM('Разполож съдове'!E124:F124) -> 135
B38: 66.09 | C38: лв | D38: пластм.кофа | H38: =SUM('Разполож съдове'!G124:H124) -> 708
B39: 72.42 | C39: лв | D39: метална кофа | H39: =SUM('Разполож съдове'!I124:J124) -> 1299
A41: Сума за 1 съд и 1 обслужване общо с и без ДДС
A42: за конт. | B42: 1.1 | C42: м3 | D42: Х | E42: =O3 -> 25.89863 | F42: лв. = | G42: =B42*E42 -> 28.488493 | H42: лв/1 бр/1 обслужване | O42: =G42 -> 28.488493
A43: пластм.кофа | B43: 0.24 | C43: м4 | D43: Х | E43: =O3 -> 25.89863 | F43: лв. = | G43: =B43*E43 -> 6.2156713 | H43: лв/1 бр/1 обслужване | O43: =G43 -> 6.2156713
A44: мет.кофа | B44: 0.11 | C44: м5 | D44: Х | E44: =O3 -> 25.89863 | F44: лв. = | G44: =B44*E44 -> 2.8488493 | H44: лв/1 бр/1 обслужване | O44: =G44 -> 2.8488493

Sheet цена обсл съдове
A1: ЦЕНИ
A2: ЗА ОБСЛУЖВАНЕ НА СЪДОВЕ ЗА ТБО, ИЗПОЛЗВАНИ ОТ ЮРИДИЧЕСКИ ЛИЦА И ЕДНОЛИЧНИ ТЪРГОВЦИ ЗА 2009 Г.
A4: СКАНИЯ - | B4: ='Разбивка цена'!B9 -> 512.448 | C4: лв. м/см с вкл. ДДС – 16 м3
A5: МАН - | B5: ='Разбивка цена'!B13 -> 257.856 | C5: лв. м/см с вкл. ДДС – 4 м3
A7: За 1 м3 ТБО – | B7: ='Разбивка цена'!O3 -> 25.89863 | C7: (С включени разходи сметосъбиране, сметоизвозване, обезвреждане депо и закупуване на съдове)
A8: Елементи | B8: Брой на обслужване | E8: За 1 контейнер тип”BOBR” – 1.1 м3 | G8: За една кофа – пластмасова – 0.24 м3 | I8: За една кофа – метална 0.11 м3 | K8: Забележка
A9: 1 | B9: 2 | E9: 3 | G9: 4 | I9: 5 | K9: 6
A10: Сметосъбиране и сметоизвозване | E10: =SUM('Разбивка цена'!O9,'Разбивка цена'!O14)*1.1 -> 11.236192 | F10: лв | G10: =SUM('Разбивка цена'!O9,'Разбивка цена'!O14)*0.24 -> 2.4515328 | H10: лв | I10: =SUM('Разбивка цена'!O9,'Разбивка цена'!O14)*0.11 -> 1.1236192 | J10: лв
A11: Поддържане и мониторинг на депо за ТБО | E11: ='Разбивка цена'!O28*1.1 -> 1.1493712 | F11: лв | G11: ='Разбивка цена'!O28*0.24 -> 0.25077189 | H11: лв | I11: ='Разбивка цена'!O28*0.11 -> 0.11493712 | J11: лв
A12: Закупуване на съдове | B12: т.1.1 | C12: 252 | D12: бр | E12: ='Разбивка цена'!B37/C12 -> 1.9047619 | F12: лв | G12: ='Разбивка цена'!B38/C12 -> 0.2622619 | H12: лв | I12: ='Разбивка цена'!B39/C12 -> 0.28738095 | J12: лв
B13: т.1.2 | C13: 120 | D13: бр | E13: ='Разбивка цена'!B37/C13 -> 4 | F13: лв | G13: ='Разбивка цена'!B38/C13 -> 0.55075 | H13: лв | I13: ='Разбивка цена'!B39/C13 -> 0.6035 | J13: лв
B14: т.1.3 и т. 2 | C14: 52 | D14: бр | E14: ='Разбивка цена'!B37/C14 -> 9.2307692 | F14: лв | G14: ='Разбивка цена'!B38/C14 -> 1.2709615 | H14: лв | I14: ='Разбивка цена'!B39/C14 -> 1.3926923 | J14: лв
B15: т.3 | C15: 24 | D15: бр | E15: ='Разбивка цена'!B37/C15 -> 20 | F15: лв | G15: ='Разбивка цена'!B38/C15 -> 2.75375 | H15: лв | I15: ='Разбивка цена'!B39/C15 -> 3.0175 | J15: лв
B16: т.4 | C16: 12 | D16: бр | E16: ='Разбивка цена'!B37/C16 -> 40 | F16: лв | G16: ='Разбивка цена'!B38/C16 -> 5.5075 | H16: лв | I16: ='Разбивка цена'!B39/C16 -> 6.035 | J16: лв
A17: Всичко за едно обслужване | B17: т.1.1 | C17: 1 | D17: бр | E17: =SUM($E$10+$E$11+E12) -> 14.290325 | F17: лв | G17: =SUM($G$10+$G$11+G12) -> 2.9645666 | H17: лв | I17: =SUM($I$10+$I$11+I12) -> 1.5259373 | J17: лв
B18: т.1.2 | C18: 1 | D18: бр | E18: =SUM($E$10+$E$11+E13) -> 16.385563 | F18: лв | G18: =SUM($G$10+$G$11+G13) -> 3.2530547 | H18: лв | I18: =SUM($I$10+$I$11+I13) -> 1.8420563 | J18: лв
B19: т.1.3 и т. 2 | C19: 1 | D19: бр | E19: =SUM($E$10+$E$11+E14) -> 21.616332 | F19: лв | G19: =SUM($G$10+$G$11+G14) -> 3.9732662 | H19: лв | I19: =SUM($I$10+$I$11+I14) -> 2.6312486 | J19: лв
B20: т.3 | C20: 1 | D20: бр | E20: =SUM($E$10+$E$11+E15) -> 32.385563 | F20: лв | G20: =SUM($G$10+$G$11+G15) -> 5.4560547 | H20: лв | I20: =SUM($I$10+$I$11+I15) -> 4.2560563 | J20: лв
B21: т.4 | C21: 1 | D21: бр | E21: =SUM($E$10+$E$11+E16) -> 52.385563 | F21: лв | G21: =SUM($G$10+$G$11+G16) -> 8.2098047 | H21: лв | I21: =SUM($I$10+$I$11+I16) -> 7.2735563 | J21: лв
A22: Всичко за 2009година + цена за измиване на съда | B22: т.1.1 | C22: 252 | D22: бр | E22: =SUM(E17*C22)+'Разбивка цена'!O24 -> 3602.0905 | F22: лв | G22: =SUM(G17*C22)+'Разбивка цена'!O24 -> 747.99941 | H22: лв | I22: =SUM(I17*C22)+'Разбивка цена'!O24 -> 385.46482 | J22: лв
B23: т.1.2 | C23: 120 | D23: бр | E23: =SUM(E18*C23)+'Разбивка цена'!O24 -> 1967.1962 | F23: лв | G23: =SUM(G18*C23)+'Разбивка цена'!O24 -> 391.29519 | H23: лв | I23: =SUM(I18*C23)+'Разбивка цена'!O24 -> 221.97539 | J23: лв
B24: т.1.3 и т. 2 | C24: 52 | D24: бр | E24: =SUM(E19*C24)+'Разбивка цена'!O24 -> 1124.9779 | F24: лв | G24: =SUM(G19*C24)+'Разбивка цена'!O24 -> 207.53847 | H24: лв | I24: =SUM(I19*C24)+'Разбивка цена'!O24 -> 137.75356 | J24: лв
B25: т.3 | C25: 24 | D25: бр | E25: =SUM(E20*C25)+'Разбивка цена'!O24 -> 778.18214 | F25: лв | G25: =SUM(G20*C25)+'Разбивка цена'!O24 -> 131.87394 | H25: лв | I25: =SUM(I20*C25)+'Разбивка цена'!O24 -> 103.07398 | J25: лв
B26: т.4 | C26: 12 | D26: бр | E26: =SUM(E21*C26)+'Разбивка цена'!O24 -> 629.55539 | F26: лв | G26: =SUM(G21*C26)+'Разбивка цена'!O24 -> 99.446284 | H26: лв | I26: =SUM(I21*C26)+'Разбивка цена'!O24 -> 88.211303 | J26: лв
A30: Изготвил: | F30: КМЕТ НА ОБЩИНА ЕЛЕНА:
B31: /Л.Камбуров/ | J31: /С.Топалов/

Sheet Мес прот
A1: Приложение № 1 към договор за обществена поръчка
A2: oт 11.08.2008 г.
A4: Изпълнител: “Титан-Клинър” ООД гр. Кърджали
A5: Инвеститор: Община Елена
A7: ПРОТОКОЛ №1
A8: За установяване на цената на извършените работи | H8: брой съдове
A9: към 31.01.2009 г. | H9: бобър | J9: =SUM('Разполож съдове'!E124:F124) -> 135
H10: кофи | J10: =SUM('Разполож съдове'!G124:H124,'Разполож съдове'!I124:J124) -> 2007 | U10: 1
A11: Днес, .02.2009 г., подписаните представители на Инвеститора
A12: Любомир Камбуров……………….………………….. …..и на Изпълнителя
A13: Иван Иванов ………….…..........…………………… ………..след проверка
A14: установихме, че към……………31.01.2009 г.…………………..са извършени
A15: и подлежат на заплащане въз основа на този протокол следният вид работа:
J16: 1 | K16: 2 | L16: 3 | M16: 4 | N16: 5 | O16: 6 | P16: 7 | Q16: 8 | R16: 9 | S16: 10 | T16: 11 | U16: 12 | V16: 13 | W16: 14 | X16: 15 | Y16: 16 | Z16: 17 | AA16: 18 | AB16: 19 | AC16: 20 | AD16: 21 | AE16: 22 | AF16: 23 | AG16: 24 | AH16: 25 | AI16: 26 | AJ16: 27 | AK16: 28 | AL16: 29 | AM16: 30 | AN16: 31
A17: № | B17: Операции | C17: Мярка | D17: Обем | E17: Единична цена /лв/ | F17: Месечна цена /лв/ | J17: Н | L17: Н | M17: Н | S17: Н | T17: Н | Z17: Н | AA17: Н | AG17: Н | AH17: Н | AN17: Н
A18: 1 | B18: Сметоизвозване на ТБО от специализирани съдове Община Елена | C18: м/см | D18: =I18 -> 10.5 | E18: 419.23 | F18: =D18*E18 -> 4401.915 | I18: =SUM(J18:AN18)/8 -> 10.5 | K18: 4 | N18: 4 | O18: 4 | P18: 4 | Q18: 4 | R18: 4 | U18: 4 | V18: 4 | W18: 4 | X18: 4 | Y18: 4 | AB18: 4 | AC18: 4 | AD18: 4 | AE18: 4 | AF18: 4 | AI18: 4 | AJ18: 4 | AK18: 4 | AL18: 4 | AM18: 4
A19: 2 | B19: Сметоизвозване на ТБО от специализирани съдове Община Елена | C19: м/см | D19: =I19 -> 2 | E19: 427.03 | F19: =D19*E19 -> 854.06 | I19: =SUM(J19:AN19)/8 -> 2 | O19: 2 | Q19: 2 | V19: 2 | X19: 2 | AC19: 2 | AE19: 2 | AJ19: 2 | AL19: 2
A20: 3 | B20: Сметоизвозване на други отпадъци Община Елена | C20: м/см | D20: =I20 -> 6.5 | E20: 214.87 | F20: =D20*E20 -> 1396.655 | I20: =SUM(J20:AN20)/8 -> 6.5 | K20: 4 | N20: 4 | P20: 4 | R20: 4 | U20: 4 | W20: 4 | Y20: 4 | AB20: 4 | AD20: 4 | AF20: 4 | AI20: 4 | AK20: 4 | AM20: 4
A21: 4 | B21: Машинно метене | C21: м/см | D21: =I21 -> 0 | E21: 475.8 | F21: =D21*E21 -> 0 | I21: =SUM(J21:AN21)/8 -> 0
A22: 5 | B22: Почистване на улици и територии за обществено ползване гр. Елена | C22: ч/дни | D22: =I22 -> 72 | E22: 30.07 | F22: =D22*E22 -> 2165.04 | I22: =SUM(J22:AN22) -> 72 | K22: 2 | AB22: 7 | AC22: 7 | AD22: 7 | AE22: 7 | AF22: 7 | AI22: 7 | AJ22: 7 | AK22: 7 | AL22: 7 | AM22: 7
A23: 6 | B23: Поддържане на зелени площи гр. Елена | C23: ч/дни | D23: =I23 -> 22 | E23: 30.07 | F23: =D23*E23 -> 661.54 | I23: =SUM(J23:AN23) -> 22 | K23: 2 | AB23: 2 | AC23: 2 | AD23: 2 | AE23: 2 | AF23: 2 | AI23: 2 | AJ23: 2 | AK23: 2 | AL23: 2 | AM23: 2
A24: 7 | B24: Поддържане на тревни площи | C24: анализ | D24: =I24 -> 0 | E24: 1589.86 | F24: =D24*E24 -> 0 | I24: =SUM(J24:AN24) -> 0
A25: 8 | B25: Поддържане на едногодишни цветя във фигури | C25: анализ | D25: =I25 -> 0 | E25: 322.39 | F25: =D25*E25 -> 0 | I25: =SUM(J25:AN25) -> 0
A26: 9 | B26: Поддържане на рози | C26: анализ | D26: =I26 -> 0 | E26: 4.85 | F26: =D26*E26 -> 0 | I26: =SUM(J26:AN26) -> 0
A27: 10 | B27: Поддържане на живи плетова | C27: анализ | D27: =I27 -> 0 | E27: 13.44 | F27: =D27*E27 -> 0 | I27: =SUM(J27:AN27) -> 0
A28: 11 | B28: Поддържане на декоративни храсти - единични и в групи | C28: анализ | D28: =I28 -> 0 | E28: 43.44 | F28: =D28*E28 -> 0 | I28: =SUM(J28:AN28) -> 0
A29: 12 | B29: Поддържане на дървета | C29: анализ | D29: =I29 -> 0 | E29: 40.92 | F29: =D29*E29 -> 0 | I29: =SUM(J29:AN29) -> 0
A30: 13 | B30: Поддържане на алеи и площадки | C30: анализ | D30: =I30 -> 0 | E30: 485.66 | F30: =D30*E30 -> 0 | I30: =SUM(J30:AN30) -> 0
A31: 14 | B31: Снегопочистване на тротоари по улици и площади в гр. Елена | C31: ч/дни | D31: =I31 -> 95 | E31: 30.07 | F31: =D31*E31 -> 2856.65 | I31: =SUM(J31:AN31) -> 95 | N31: 9 | O31: 9 | P31: 9 | Q31: 9 | R31: 9 | S31: 5 | U31: 9 | V31: 9 | W31: 9 | X31: 9 | Y31: 9
E32: В С И Ч К О : | F32: =SUM(F18:F31) -> 12335.86 | H32: депо | I32: =SUM(J32:AN32) -> 1 | AD32: 1
E33: 20 % ДДС : | F33: =F32*20% -> 2467.172
E34: ВСИЧКО С ДДС : | F34: =SUM(F32:F33) -> 14803.032 | G34: седмично обслужване
B35: /необлагаеми с ДДС дейности/ | G35: 1 | H35: 2
A36: 1 | B36: Сметосъбиране на ТБО от специализ. съдове тип "Бобър" | C36: бр.обсл | D36: =SUM(G36:H36)*I36 -> 692 | E36: 0.1 | F36: =SUM(D36*E36) -> 69.2 | G36: =SUM('Разполож съдове'!$E$122:$F$122) -> 97 | H36: =SUM('Разполож съдове'!$E$83:$F$83)*H35 -> 76 | I36: =SUM(J36:AN36) -> 4 | P36: 1 | V36: 1 | AD36: 1 | AK36: 1
A37: 2 | B37: Сметосъбиране на ТБО от специализ. съдове тип "кофа" | C37: бр.обсл | D37: =SUM(G37:H37)*I36 -> 9104 | E37: 0.05 | F37: =SUM(D37*E37) -> 455.2 | G37: =SUM('Разполож съдове'!$G$122:$J$122) -> 1738 | H37: =SUM('Разполож съдове'!$G$83:$J$83)*2 -> 538
A38: 3 | B38: Поддържане на депото в гр. Елена местността “Поп Сотиров гроб” | C38: м/см | D38: =I32 -> 1 | E38: 430.56 | F38: =SUM(D38*E38) -> 430.56
E39: ВСИЧКО БЕЗ ДДС : | F39: =SUM(F36:F38) -> 954.96
E42: ОБЩО ЗА МЕСЕЦА : | F42: =SUM(F34,F39) -> 15757.992
B44: Настоящия изготвен на основание ежедневни протоколи.
B48: ВЪЗЛОЖИТЕЛ:……………… | C48: ИЗПЪЛНИТЕЛ:…………….
B49: Община Елена | C49: “Титан-Клинър” ООД гр. Кърджали
B50: Ст. специалист “КЧ” /Любомир Камбуров/ | C50: Оргониз. производство /Иван Иванов/
A53: Приложение № 1 към договор за обществена поръчка
A54: oт 11.08.2008 г.
A56: Изпълнител: “Титан-Клинър” ООД гр. Кърджали
A57: Инвеститор: Община Елена
A59: ПРОТОКОЛ №2
A60: За установяване на цената на извършените работи
A61: към 28.02.2009 г.
U62: 2
A63: Днес, .03.2009 г., подписаните представители на Инвеститора
A64: Любомир Камбуров……………….………………….. …..и на Изпълнителя
A65: Иван Иванов ………….…..........…………………… ………..след проверка
A66: установихме, че към……………28.02.2009 г.…………………..са извършени
A67: и подлежат на заплащане въз основа на този протокол следният вид работа:
J68: 1 | K68: 2 | L68: 3 | M68: 4 | N68: 5 | O68: 6 | P68: 7 | Q68: 8 | R68: 9 | S68: 10 | T68: 11 | U68: 12 | V68: 13 | W68: 14 | X68: 15 | Y68: 16 | Z68: 17 | AA68: 18 | AB68: 19 | AC68: 20 | AD68: 21 | AE68: 22 | AF68: 23 | AG68: 24 | AH68: 25 | AI68: 26 | AJ68: 27 | AK68: 28 | AL68: 29 | AM68: 30 | AN68: 31
A69: № | B69: Операции | C69: Мярка | D69: Обем | E69: Единична цена /лв/ | F69: Месечна цена /лв/ | J69: Н | P69: Н | Q69: Н | W69: Н | X69: Н | AD69: Н | AE69: Н | AK69: Н
A70: 1 | B70: Сметоизвозване на ТБО от специализирани съдове Община Елена | C70: м/см | D70: =I70 -> 10 | E70: 419.23 | F70: =D70*E70 -> 4192.3 | I70: =SUM(J70:AN70)/8 -> 10 | K70: 4 | L70: 4 | M70: 4 | N70: 4 | O70: 4 | R70: 4 | S70: 4 | T70: 4 | U70: 4 | V70: 4 | Y70: 4 | Z70: 4 | AA70: 4 | AB70: 4 | AC70: 4 | AF70: 4 | AG70: 4 | AH70: 4 | AI70: 4 | AJ70: 4
A71: 2 | B71: Сметоизвозване на ТБО от специализирани съдове Община Елена | C71: м/см | D71: =I71 -> 2 | E71: 427.03 | F71: =D71*E71 -> 854.06 | I71: =SUM(J71:AN71)/8 -> 2 | L71: 2 | N71: 2 | S71: 2 | U71: 2 | Z71: 2 | AB71: 2 | AG71: 2 | AI71: 2
A72: 3 | B72: Сметоизвозване на други отпадъци Община Елена | C72: м/см | D72: =I72 -> 6 | E72: 214.87 | F72: =D72*E72 -> 1289.22 | I72: =SUM(J72:AN72)/8 -> 6 | K72: 4 | M72: 4 | O72: 4 | R72: 4 | T72: 4 | V72: 4 | Y72: 4 | AA72: 4 | AC72: 4 | AF72: 4 | AH72: 4 | AJ72: 4
A73: 4 | B73: Машинно метене | C73: м/см | D73: =I73 -> 0 | E73: 475.8 | F73: =D73*E73 -> 0 | I73: =SUM(J73:AN73)/8 -> 0
A74: 5 | B74: Почистване на улици и територии за обществено ползване гр. Елена | C74: ч/дни | D74: =I74 -> 140 | E74: 30.07 | F74: =D74*E74 -> 4209.8 | I74: =SUM(J74:AN74) -> 140 | K74: 7 | L74: 7 | M74: 7 | N74: 7 | O74: 7 | R74: 7 | S74: 7 | T74: 7 | U74: 7 | V74: 7 | Y74: 7 | Z74: 7 | AA74: 7 | AB74: 7 | AC74: 7 | AF74: 7 | AG74: 7 | AH74: 7 | AI74: 7 | AJ74: 7
A75: 9 | B75: Поддържане на зелени площи гр. Елена | C75: ч/дни | D75: =I75 -> 40 | E75: 30.07 | F75: =D75*E75 -> 1202.8 | I75: =SUM(J75:AN75) -> 40 | K75: 2 | L75: 2 | M75: 2 | N75: 2 | O75: 2 | R75: 2 | S75: 2 | T75: 2 | U75: 2 | V75: 2 | Y75: 2 | Z75: 2 | AA75: 2 | AB75: 2 | AC75: 2 | AF75: 2 | AG75: 2 | AH75: 2 | AI75: 2 | AJ75: 2
A76: 10 | B76: Поддържане на тревни площи | C76: анализ | D76: =I76 -> 0 | E76: 1589.86 | F76: =D76*E76 -> 0 | I76: =SUM(J76:AN76) -> 0
A77: 11 | B77: Поддържане на едногодишни цветя във фигури | C77: анализ | D77: =I77 -> 0 | E77: 322.39 | F77: =D77*E77 -> 0 | I77: =SUM(J77:AN77) -> 0
A78: 12 | B78: Поддържане на рози | C78: анализ | D78: =I78 -> 0 | E78: 4.85 | F78: =D78*E78 -> 0 | I78: =SUM(J78:AN78) -> 0
A79: 13 | B79: Поддържане на живи плетова | C79: анализ | D79: =I79 -> 0 | E79: 13.44 | F79: =D79*E79 -> 0 | I79: =SUM(J79:AN79) -> 0
A80: 14 | B80: Поддържане на декоративни храсти - единични и в групи | C80: анализ | D80: =I80 -> 0 | E80: 43.44 | F80: =D80*E80 -> 0 | I80: =SUM(J80:AN80) -> 0
A81: 15 | B81: Поддържане на дървета | C81: анализ | D81: =I81 -> 0 | E81: 40.92 | F81: =D81*E81 -> 0 | I81: =SUM(J81:AN81) -> 0
A82: 16 | B82: Поддържане на алеи и площадки | C82: анализ | D82: =I82 -> 0 | E82: 485.66 | F82: =D82*E82 -> 0 | I82: =SUM(J82:AN82) -> 0
A83: 17 | B83: Снегопочистване на тротоари по улици и площади в гр. Елена | C83: ч/дни | D83: =I83 -> 0 | E83: 30.07 | F83: =D83*E83 -> 0 | I83: =SUM(J83:AN83) -> 0
E84: В С И Ч К О : | F84: =SUM(F70:F83) -> 11748.18 | H84: депо | I84: =SUM(J84:AN84) -> 1 | AB84: 1
E85: 20 % ДДС : | F85: =F84*20% -> 2349.636
E86: ВСИЧКО С ДДС : | F86: =SUM(F84:F85) -> 14097.816 | G86: седмично обслужване
B87: /необлагаеми с ДДС дейности/ | G87: 1 | H87: 2
A88: 1 | B88: Сметосъбиране на ТБО от специализ. съдове тип "Бобър" | C88: бр.обсл | D88: =SUM(G88:H88)*I88 -> 692 | E88: 0.1 | F88: =SUM(D88*E88) -> 69.2 | G88: =SUM('Разполож съдове'!$E$122:$F$122) -> 97 | H88: =SUM('Разполож съдове'!$E$83:$F$83)*H87 -> 76 | I88: =SUM(J88:AN88) -> 4 | O88: 1 | V88: 1 | AC88: 1 | AJ88: 1
A89: 2 | B89: Сметосъбиране на ТБО от специализ. съдове тип "кофа" | C89: бр.обсл | D89: =SUM(G89:H89)*I88 -> 9104 | E89: 0.05 | F89: =SUM(D89*E89) -> 455.2 | G89: =SUM('Разполож съдове'!$G$122:$J$122) -> 1738 | H89: =SUM('Разполож съдове'!$G$83:$J$83)*2 -> 538
A90: 3 | B90: Поддържане на депото в гр. Елена местността “Поп Сотиров гроб” | C90: м/см | D90: =I84 -> 1 | E90: 430.56 | F90: =SUM(D90*E90) -> 430.56
E91: ВСИЧКО БЕЗ ДДС : | F91: =SUM(F88:F90) -> 954.96
E94: ОБЩО ЗА МЕСЕЦА : | F94: =SUM(F86,F91) -> 15052.776
B96: Настоящия изготвен на основание ежедневни протоколи.
B100: ВЪЗЛОЖИТЕЛ:……………… | C100: ИЗПЪЛНИТЕЛ:…………….
B101: Община Елена | C101: “Титан-Клинър” ООД гр. Кърджали
B102: Ст. специалист “КЧ” /Любомир Камбуров/ | C102: Оргониз. производство /Иван Иванов/
A105: Приложение № 1 към договор за обществена поръчка
A106: oт 11.08.2008 г.
A108: Изпълнител: “Титан-Клинър” ООД гр. Кърджали
A109: Инвеститор: Община Елена
A111: ПРОТОКОЛ №3
A112: За установяване на цената на извършените работи
A113: към 31.03.2009 г.
A115: Днес, .04.2009 г., подписаните представители на Инвеститора
A116: Любомир Камбуров……………….………………….. …..и на Изпълнителя
A117: Иван Иванов ………….…..........…………………… ………..след проверка | U117: 3
A118: установихме, че към……………31.03.2009 г.…………………..са извършени
A119: и подлежат на заплащане въз основа на този протокол следният вид работа:
J120: 1 | K120: 2 | L120: 3 | M120: 4 | N120: 5 | O120: 6 | P120: 7 | Q120: 8 | R120: 9 | S120: 10 | T120: 11 | U120: 12 | V120: 13 | W120: 14 | X120: 15 | Y120: 16 | Z120: 17 | AA120: 18 | AB120: 19 | AC120: 20 | AD120: 21 | AE120: 22 | AF120: 23 | AG120: 24 | AH120: 25 | AI120: 26 | AJ120: 27 | AK120: 28 | AL120: 29 | AM120: 30 | AN120: 31
A121: № | B121: Операции | C121: Мярка | D121: Обем | E121: Единична цена /лв/ | F121: Месечна цена /лв/ | J121: Н | L121: Н | P121: Н | Q121: Н | W121: Н | X121: Н | AD121: Н | AE121: Н | AK121: Н | AL121: Н
A122: 1 | B122: Сметоизвозване на ТБО от специализирани съдове Община Елена | C122: м/см | D122: =I122 -> 10.5 | E122: 419.23 | F122: =D122*E122 -> 4401.915 | I122: =SUM(J122:AN122)/8 -> 10.5 | K122: 4 | M122: 4 | N122: 4 | O122: 4 | R122: 4 | S122: 4 | T122: 4 | U122: 4 | V122: 4 | Y122: 4 | Z122: 4 | AA122: 4 | AB122: 4 | AC122: 4 | AF122: 4 | AG122: 4 | AH122: 4 | AI122: 4 | AJ122: 4 | AM122: 4 | AN122: 4
A123: 2 | B123: Сметоизвозване на ТБО от специализирани съдове Община Елена | C123: м/см | D123: =I123 -> 2 | E123: 427.03 | F123: =D123*E123 -> 854.06 | I123: =SUM(J123:AN123)/8 -> 2 | N123: 2 | S123: 2 | U123: 2 | Z123: 2 | AB123: 2 | AG123: 2 | AI123: 2 | AN123: 2
...

Sheet Ежедн прот
A1: ЕЖЕДНЕВЕН КОНСТАТИВЕН ПРОТОКОЛ
B3: Днес, | C3: 2 | D3: .01.2009 г. Любомир Александров Камбуров, ст.специалист „КЧ” в община Елена,
D4: /дата/ /Трите имена на проверяващия/
A5: извърших проверка на извършената работа по дейности и маршрути, както следва:
G6: 8 | H6: 13 | I6: 19 | J6: 23 | K6: 29
A7: 1. | B7: Сметоизвозване на ТБО от специализирани съдове Община Елена | E7: - | F7: ='Мес прот'!K18 -> 4 | G7: ='Мес прот'!Q18 -> 4 | H7: ='Мес прот'!V18 -> 4 | I7: ='Мес прот'!AB18 -> 4 | J7: ='Мес прот'!AF18 -> 4 | K7: ='Мес прот'!AL18 -> 4 | L7: моточаса
A8: 2. | B8: Сметоизвозване на ТБО от специализирани съдове Община Елена | E8: - | F8: ='Мес прот'!K19 -> 0 | G8: ='Мес прот'!Q19 -> 2 | H8: ='Мес прот'!V19 -> 2 | I8: ='Мес прот'!AB19 -> 0 | J8: ='Мес прот'!AF19 -> 0 | K8: ='Мес прот'!AL19 -> 2 | L8: моточаса
A9: 3. | B9: Сметоизвозване на други отпадъци Община Елена | E9: - | F9: ='Мес прот'!K20 -> 4 | G9: ='Мес прот'!Q20 -> 0 | H9: ='Мес прот'!V20 -> 0 | I9: ='Мес прот'!AB20 -> 4 | J9: ='Мес прот'!AF20 -> 4 | K9: ='Мес прот'!AL20 -> 0 | L9: моточаса
A10: 4. | B10: Машинно метене | E10: - | F10: ='Мес прот'!K21 -> 0 | G10: ='Мес прот'!Q21 -> 0 | H10: ='Мес прот'!V21 -> 0 | I10: ='Мес прот'!AB21 -> 0 | J10: ='Мес прот'!AF21 -> 0 | K10: ='Мес прот'!AL21 -> 0 | L10: моточаса
A11: 5. | B11: Почистване на улици и територии за обществено ползване гр. Елена | E11: - | F11: ='Мес прот'!K22 -> 2 | G11: ='Мес прот'!Q22 -> 0 | H11: ='Мес прот'!V22 -> 0 | I11: ='Мес прот'!AB22 -> 7 | J11: ='Мес прот'!AF22 -> 7 | K11: ='Мес прот'!AL22 -> 7 | L11: човекодни
A12: 6. | B12: Поддържане на зелени площи гр. Елена | E12: - | F12: ='Мес прот'!K23 -> 2 | G12: ='Мес прот'!Q23 -> 0 | H12: ='Мес прот'!V23 -> 0 | I12: ='Мес прот'!AB23 -> 2 | J12: ='Мес прот'!AF23 -> 2 | K12: ='Мес прот'!AL23 -> 2 | L12: човекодни
C13: Поддържане на тревни площи | E13: - | F13: ='Мес прот'!K24 -> 0 | G13: ='Мес прот'!Q24 -> 0 | H13: ='Мес прот'!V24 -> 0 | I13: ='Мес прот'!AB24 -> 0 | J13: ='Мес прот'!AF24 -> 0 | K13: ='Мес прот'!AL24 -> 0 | L13: по анализ
C14: Поддържане на едногодишни цветя във фигури | E14: - | F14: ='Мес прот'!K25 -> 0 | G14: ='Мес прот'!Q25 -> 0 | H14: ='Мес прот'!V25 -> 0 | I14: ='Мес прот'!AB25 -> 0 | J14: ='Мес прот'!AF25 -> 0 | K14: ='Мес прот'!AL25 -> 0 | L14: по анализ
C15: Поддържане на рози | E15: - | F15: ='Мес прот'!K26 -> 0 | G15: ='Мес прот'!Q26 -> 0 | H15: ='Мес прот'!V26 -> 0 | I15: ='Мес прот'!AB26 -> 0 | J15: ='Мес прот'!AF26 -> 0 | K15: ='Мес прот'!AL26 -> 0 | L15: по анализ
C16: Поддържане на живи плетова | E16: - | F16: ='Мес прот'!K27 -> 0 | G16: ='Мес прот'!Q27 -> 0 | H16: ='Мес прот'!V27 -> 0 | I16: ='Мес прот'!AB27 -> 0 | J16: ='Мес прот'!AF27 -> 0 | K16: ='Мес прот'!AL27 -> 0 | L16: по анализ
C17: Поддържане на декоративни храсти - единични и в групи | E17: - | F17: ='Мес прот'!K28 -> 0 | G17: ='Мес прот'!Q28 -> 0 | H17: ='Мес прот'!V28 -> 0 | I17: ='Мес прот'!AB28 -> 0 | J17: ='Мес прот'!AF28 -> 0 | K17: ='Мес прот'!AL28 -> 0 | L17: по анализ
C18: Поддържане на дървета | E18: - | F18: ='Мес прот'!K29 -> 0 | G18: ='Мес прот'!Q29 -> 0 | H18: ='Мес прот'!V29 -> 0 | I18: ='Мес прот'!AB29 -> 0 | J18: ='Мес прот'!AF29 -> 0 | K18: ='Мес прот'!AL29 -> 0 | L18: по анализ
C19: Поддържане на алеи и площадки | E19: - | F19: ='Мес прот'!K30 -> 0 | G19: ='Мес прот'!Q30 -> 0 | H19: ='Мес прот'!V30 -> 0 | I19: ='Мес прот'!AB30 -> 0 | J19: ='Мес прот'!AF30 -> 0 | K19: ='Мес прот'!AL30 -> 0 | L19: по анализ
A20: 7. | B20: Снегопочистване на тротоари по улици и площади в гр. Елена | E20: - | F20: ='Мес прот'!K31 -> 0 | G20: ='Мес прот'!Q31 -> 9 | H20: ='Мес прот'!V31 -> 9 | I20: ='Мес прот'!AB31 -> 0 | J20: ='Мес прот'!AF31 -> 0 | K20: ='Мес прот'!AL31 -> 0 | L20: човекодни
A21: 8. | B21: Поддържане на депото в гр. Елена местността “Поп Сотиров гроб” | E21: - | F21: ='Мес прот'!K32 -> 0 | G21: ='Мес прот'!Q32 -> 0 | H21: ='Мес прот'!V32 -> 0 | I21: ='Мес прот'!AB32 -> 0 | J21: ='Мес прот'!AF32 -> 0 | K21: ='Мес прот'!AL32 -> 0 | L21: моточаса
A25: ИЗПЪЛНИТЕЛ:……………. | E25: ВЪЗЛОЖИТЕЛ:………………
A26: “Титан-Клинър” ООД гр. Кърджали | E26: Община Елена
A27: Оргониз. производство /Иван Иванов/ | E27: Ст. специалист “КЧ” /Л. Камбуров/
A30: ЕЖЕДНЕВЕН КОНСТАТИВЕН ПРОТОКОЛ
B32: Днес, | C32: 5 | D32: =D3 -> .01.2009 г. Любомир Александров Камбуров, ст.специалист „КЧ” в община Елена,
D33: /дата/ /Трите имена на проверяващия/
A34: извърших проверка на извършената работа по дейности и маршрути, както следва:
G35: 9 | H35: 14 | I35: 20 | J35: 26 | K35: 30
A36: 1. | B36: Сметоизвозване на ТБО от специализирани съдове Община Елена | E36: - | F36: ='Мес прот'!N18 -> 4 | G36: ='Мес прот'!R18 -> 4 | H36: ='Мес прот'!W18 -> 4 | I36: ='Мес прот'!AC18 -> 4 | J36: ='Мес прот'!AI18 -> 4 | K36: ='Мес прот'!AM18 -> 4 | L36: моточаса
A37: 2. | B37: Сметоизвозване на ТБО от специализирани съдове Община Елена | E37: - | F37: ='Мес прот'!N19 -> 0 | G37: ='Мес прот'!R19 -> 0 | H37: ='Мес прот'!W19 -> 0 | I37: ='Мес прот'!AC19 -> 2 | J37: ='Мес прот'!AI19 -> 0 | K37: ='Мес прот'!AM19 -> 0 | L37: моточаса
A38: 3. | B38: Сметоизвозване на други отпадъци Община Елена | E38: - | F38: ='Мес прот'!N20 -> 4 | G38: ='Мес прот'!R20 -> 4 | H38: ='Мес прот'!W20 -> 4 | I38: ='Мес прот'!AC20 -> 0 | J38: ='Мес прот'!AI20 -> 4 | K38: ='Мес прот'!AM20 -> 4 | L38: моточаса
A39: 4. | B39: Машинно метене | E39: - | F39: ='Мес прот'!N21 -> 0 | G39: ='Мес прот'!R21 -> 0 | H39: ='Мес прот'!W21 -> 0 | I39: ='Мес прот'!AC21 -> 0 | J39: ='Мес прот'!AI21 -> 0 | K39: ='Мес прот'!AM21 -> 0 | L39: моточаса
A40: 5. | B40: Почистване на улици и територии за обществено ползване гр. Елена | E40: - | F40: ='Мес прот'!N22 -> 0 | G40: ='Мес прот'!R22 -> 0 | H40: ='Мес прот'!W22 -> 0 | I40: ='Мес прот'!AC22 -> 7 | J40: ='Мес прот'!AI22 -> 7 | K40: ='Мес прот'!AM22 -> 7 | L40: човекодни
A41: 6. | B41: Поддържане на зелени площи гр. Елена | E41: - | F41: ='Мес прот'!N23 -> 0 | G41: ='Мес прот'!R23 -> 0 | H41: ='Мес прот'!W23 -> 0 | I41: ='Мес прот'!AC23 -> 2 | J41: ='Мес прот'!AI23 -> 2 | K41: ='Мес прот'!AM23 -> 2 | L41: човекодни
C42: Поддържане на тревни площи | E42: - | F42: ='Мес прот'!N24 -> 0 | G42: ='Мес прот'!R24 -> 0 | H42: ='Мес прот'!W24 -> 0 | I42: ='Мес прот'!AC24 -> 0 | J42: ='Мес прот'!AI24 -> 0 | K42: ='Мес прот'!AM24 -> 0 | L42: по анализ
C43: Поддържане на едногодишни цветя във фигури | E43: - | F43: ='Мес прот'!N25 -> 0 | G43: ='Мес прот'!R25 -> 0 | H43: ='Мес прот'!W25 -> 0 | I43: ='Мес прот'!AC25 -> 0 | J43: ='Мес прот'!AI25 -> 0 | K43: ='Мес прот'!AM25 -> 0 | L43: по анализ
C44: Поддържане на рози | E44: - | F44: ='Мес прот'!N26 -> 0 | G44: ='Мес прот'!R26 -> 0 | H44: ='Мес прот'!W26 -> 0 | I44: ='Мес прот'!AC26 -> 0 | J44: ='Мес прот'!AI26 -> 0 | K44: ='Мес прот'!AM26 -> 0 | L44: по анализ
C45: Поддържане на живи плетова | E45: - | F45: ='Мес прот'!N27 -> 0 | G45: ='Мес прот'!R27 -> 0 | H45: ='Мес прот'!W27 -> 0 | I45: ='Мес прот'!AC27 -> 0 | J45: ='Мес прот'!AI27 -> 0 | K45: ='Мес прот'!AM27 -> 0 | L45: по анализ
C46: Поддържане на декоративни храсти - единични и в групи | E46: - | F46: ='Мес прот'!N28 -> 0 | G46: ='Мес прот'!R28 -> 0 | H46: ='Мес прот'!W28 -> 0 | I46: ='Мес прот'!AC28 -> 0 | J46: ='Мес прот'!AI28 -> 0 | K46: ='Мес прот'!AM28 -> 0 | L46: по анализ
C47: Поддържане на дървета | E47: - | F47: ='Мес прот'!N29 -> 0 | G47: ='Мес прот'!R29 -> 0 | H47: ='Мес прот'!W29 -> 0 | I47: ='Мес прот'!AC29 -> 0 | J47: ='Мес прот'!AI29 -> 0 | K47: ='Мес прот'!AM29 -> 0 | L47: по анализ
C48: Поддържане на алеи и площадки | E48: - | F48: ='Мес прот'!N30 -> 0 | G48: ='Мес прот'!R30 -> 0 | H48: ='Мес прот'!W30 -> 0 | I48: ='Мес прот'!AC30 -> 0 | J48: ='Мес прот'!AI30 -> 0 | K48: ='Мес прот'!AM30 -> 0 | L48: по анализ
A49: 7. | B49: Снегопочистване на тротоари по улици и площади в гр. Елена | E49: - | F49: ='Мес прот'!N31 -> 9 | G49: ='Мес прот'!R31 -> 9 | H49: ='Мес прот'!W31 -> 9 | I49: ='Мес прот'!AC31 -> 0 | J49: ='Мес прот'!AI31 -> 0 | K49: ='Мес прот'!AM31 -> 0 | L49: човекодни
A50: 8. | B50: Поддържане на депото в гр. Елена местността “Поп Сотиров гроб” | E50: - | F50: ='Мес прот'!N32 -> 0 | G50: ='Мес прот'!R32 -> 0 | H50: ='Мес прот'!W32 -> 0 | I50: ='Мес прот'!AC32 -> 0 | J50: ='Мес прот'!AI32 -> 0 | K50: ='Мес прот'!AM32 -> 0 | L50: моточаса
A54: ИЗПЪЛНИТЕЛ:……………. | E54: ВЪЗЛОЖИТЕЛ:………………
A55: “Титан-Клинър” ООД гр. Кърджали | E55: Община Елена
A56: Оргониз. производство /Иван Иванов/ | E56: Ст. специалист “КЧ” /Л. Камбуров/
A57: ЕЖЕДНЕВЕН КОНСТАТИВЕН ПРОТОКОЛ
B59: Днес, | C59: 6 | D59: =D3 -> .01.2009 г. Любомир Александров Камбуров, ст.специалист „КЧ” в община Елена,
D60: /дата/ /Трите имена на проверяващия/
A61: извърших проверка на извършената работа по дейности и маршрути, както следва:
G62: 10 | H62: 15 | I62: 21 | J62: 27
A63: 1. | B63: Сметоизвозване на ТБО от специализирани съдове Община Елена | E63: - | F63: ='Мес прот'!O18 -> 4 | G63: ='Мес прот'!S18 -> 0 | H63: ='Мес прот'!X18 -> 4 | I63: ='Мес прот'!AD18 -> 4 | J63: ='Мес прот'!AJ18 -> 4 | L63: моточаса
A64: 2. | B64: Сметоизвозване на ТБО от специализирани съдове Община Елена | E64: - | F64: ='Мес прот'!O19 -> 2 | G64: ='Мес прот'!S19 -> 0 | H64: ='Мес прот'!X19 -> 2 | I64: ='Мес прот'!AD19 -> 0 | J64: ='Мес прот'!AJ19 -> 2 | L64: моточаса
A65: 3. | B65: Сметоизвозване на други отпадъци Община Елена | E65: - | F65: ='Мес прот'!O20 -> 0 | G65: ='Мес прот'!S20 -> 0 | H65: ='Мес прот'!X20 -> 0 | I65: ='Мес прот'!AD20 -> 4 | J65: ='Мес прот'!AJ20 -> 0 | L65: моточаса
A66: 4. | B66: Машинно метене | E66: - | F66: ='Мес прот'!O21 -> 0 | G66: ='Мес прот'!S21 -> 0 | H66: ='Мес прот'!X21 -> 0 | I66: ='Мес прот'!AD21 -> 0 | J66: ='Мес прот'!AJ21 -> 0 | L66: моточаса
A67: 5. | B67: Почистване на улици и територии за обществено ползване гр. Елена | E67: - | F67: ='Мес прот'!O22 -> 0 | G67: ='Мес прот'!S22 -> 0 | H67: ='Мес прот'!X22 -> 0 | I67: ='Мес прот'!AD22 -> 7 | J67: ='Мес прот'!AJ22 -> 7 | L67: човекодни
A68: 6. | B68: Поддържане на зелени площи гр. Елена | E68: - | F68: ='Мес прот'!O23 -> 0 | G68: ='Мес прот'!S23 -> 0 | H68: ='Мес прот'!X23 -> 0 | I68: ='Мес прот'!AD23 -> 2 | J68: ='Мес прот'!AJ23 -> 2 | L68: човекодни
C69: Поддържане на тревни площи | E69: - | F69: ='Мес прот'!O24 -> 0 | G69: ='Мес прот'!S24 -> 0 | H69: ='Мес прот'!X24 -> 0 | I69: ='Мес прот'!AD24 -> 0 | J69: ='Мес прот'!AJ24 -> 0 | L69: по анализ
C70: Поддържане на едногодишни цветя във фигури | E70: - | F70: ='Мес прот'!O25 -> 0 | G70: ='Мес прот'!S25 -> 0 | H70: ='Мес прот'!X25 -> 0 | I70: ='Мес прот'!AD25 -> 0 | J70: ='Мес прот'!AJ25 -> 0 | L70: по анализ
C71: Поддържане на рози | E71: - | F71: ='Мес прот'!O26 -> 0 | G71: ='Мес прот'!S26 -> 0 | H71: ='Мес прот'!X26 -> 0 | I71: ='Мес прот'!AD26 -> 0 | J71: ='Мес прот'!AJ26 -> 0 | L71: по анализ
C72: Поддържане на живи плетова | E72: - | F72: ='Мес прот'!O27 -> 0 | G72: ='Мес прот'!S27 -> 0 | H72: ='Мес прот'!X27 -> 0 | I72: ='Мес прот'!AD27 -> 0 | J72: ='Мес прот'!AJ27 -> 0 | L72: по анализ
C73: Поддържане на декоративни храсти - единични и в групи | E73: - | F73: ='Мес прот'!O28 -> 0 | G73: ='Мес прот'!S28 -> 0 | H73: ='Мес прот'!X28 -> 0 | I73: ='Мес прот'!AD28 -> 0 | J73: ='Мес прот'!AJ28 -> 0 | L73: по анализ
C74: Поддържане на дървета | E74: - | F74: ='Мес прот'!O29 -> 0 | G74: ='Мес прот'!S29 -> 0 | H74: ='Мес прот'!X29 -> 0 | I74: ='Мес прот'!AD29 -> 0 | J74: ='Мес прот'!AJ29 -> 0 | L74: по анализ
C75: Поддържане на алеи и площадки | E75: - | F75: ='Мес прот'!O30 -> 0 | G75: ='Мес прот'!S30 -> 0 | H75: ='Мес прот'!X30 -> 0 | I75: ='Мес прот'!AD30 -> 0 | J75: ='Мес прот'!AJ30 -> 0 | L75: по анализ
A76: 7. | B76: Снегопочистване на тротоари по улици и площади в гр. Елена | E76: - | F76: ='Мес прот'!O31 -> 9 | G76: ='Мес прот'!S31 -> 5 | H76: ='Мес прот'!X31 -> 9 | I76: ='Мес прот'!AD31 -> 0 | J76: ='Мес прот'!AJ31 -> 0 | L76: човекодни
A77: 8. | B77: Поддържане на депото в гр. Елена местността “Поп Сотиров гроб” | E77: - | F77: ='Мес прот'!O32 -> 0 | G77: ='Мес прот'!S32 -> 0 | H77: ='Мес прот'!X32 -> 0 | I77: ='Мес прот'!AD32 -> 1 | J77: ='Мес прот'!AJ32 -> 0 | L77: моточаса
A81: ИЗПЪЛНИТЕЛ:……………. | E81: ВЪЗЛОЖИТЕЛ:………………
A82: “Титан-Клинър” ООД гр. Кърджали | E82: Община Елена
A83: Оргониз. производство /Иван Иванов/ | E83: Ст. специалист “КЧ” /Л. Камбуров/
A86: ЕЖЕДНЕВЕН КОНСТАТИВЕН ПРОТОКОЛ
B88: Днес, | C88: 7 | D88: =D3 -> .01.2009 г. Любомир Александров Камбуров, ст.специалист „КЧ” в община Елена,
D89: /дата/ /Трите имена на проверяващия/
A90: извърших проверка на извършената работа по дейности и маршрути, както следва:
G91: 12 | H91: 16 | I91: 22 | J91: 28
A92: 1. | B92: Сметоизвозване на ТБО от специализирани съдове Община Елена | E92: - | F92: ='Мес прот'!P18 -> 4 | G92: ='Мес прот'!U18 -> 4 | H92: ='Мес прот'!Y18 -> 4 | I92: ='Мес прот'!AE18 -> 4 | J92: ='Мес прот'!AK18 -> 4 | L92: моточаса
A93: 2. | B93: Сметоизвозване на ТБО от специализирани съдове Община Елена | E93: - | F93: ='Мес прот'!P19 -> 0 | G93: ='Мес прот'!U19 -> 0 | H93: ='Мес прот'!Y19 -> 0 | I93: ='Мес прот'!AE19 -> 2 | J93: ='Мес прот'!AK19 -> 0 | L93: моточаса
A94: 3. | B94: Сметоизвозване на други отпадъци Община Елена | E94: - | F94: ='Мес прот'!P20 -> 4 | G94: ='Мес прот'!U20 -> 4 | H94: ='Мес прот'!Y20 -> 4 | I94: ='Мес прот'!AE20 -> 0 | J94: ='Мес прот'!AK20 -> 4 | L94: моточаса
A95: 4. | B95: Машинно метене | E95: - | F95: ='Мес прот'!P21 -> 0 | G95: ='Мес прот'!U21 -> 0 | H95: ='Мес прот'!Y21 -> 0 | I95: ='Мес прот'!AE21 -> 0 | J95: ='Мес прот'!AK21 -> 0 | L95: моточаса
A96: 5. | B96: Почистване на улици и територии за обществено ползване гр. Елена | E96: - | F96: ='Мес прот'!P22 -> 0 | G96: ='Мес прот'!U22 -> 0 | H96: ='Мес прот'!Y22 -> 0 | I96: ='Мес прот'!AE22 -> 7 | J96: ='Мес прот'!AK22 -> 7 | L96: човекодни
A97: 6. | B97: Поддържане на зелени площи гр. Елена | E97: - | F97: ='Мес прот'!P23 -> 0 | G97: ='Мес прот'!U23 -> 0 | H97: ='Мес прот'!Y23 -> 0 | I97: ='Мес прот'!AE23 -> 2 | J97: ='Мес прот'!AK23 -> 2 | L97: човекодни
C98: Поддържане на тревни площи | E98: - | F98: ='Мес прот'!P24 -> 0 | G98: ='Мес прот'!U24 -> 0 | H98: ='Мес прот'!Y24 -> 0 | I98: ='Мес прот'!AE24 -> 0 | J98: ='Мес прот'!AK24 -> 0 | L98: по анализ
C99: Поддържане на едногодишни цветя във фигури | E99: - | F99: ='Мес прот'!P25 -> 0 | G99: ='Мес прот'!U25 -> 0 | H99: ='Мес прот'!Y25 -> 0 | I99: ='Мес прот'!AE25 -> 0 | J99: ='Мес прот'!AK25 -> 0 | L99: по анализ
C100: Поддържане на рози | E100: - | F100: ='Мес прот'!P26 -> 0 | G100: ='Мес прот'!U26 -> 0 | H100: ='Мес прот'!Y26 -> 0 | I100: ='Мес прот'!AE26 -> 0 | J100: ='Мес прот'!AK26 -> 0 | L100: по анализ
C101: Поддържане на живи плетова | E101: - | F101: ='Мес прот'!P27 -> 0 | G101: ='Мес прот'!U27 -> 0 | H101: ='Мес прот'!Y27 -> 0 | I101: ='Мес прот'!AE27 -> 0 | J101: ='Мес прот'!AK27 -> 0 | L101: по анализ
C102: Поддържане на декоративни храсти - единични и в групи | E102: - | F102: ='Мес прот'!P28 -> 0 | G102: ='Мес прот'!U28 -> 0 | H102: ='Мес прот'!Y28 -> 0 | I102: ='Мес прот'!AE28 -> 0 | J102: ='Мес прот'!AK28 -> 0 | L102: по анализ
C103: Поддържане на дървета | E103: - | F103: ='Мес прот'!P29 -> 0 | G103: ='Мес прот'!U29 -> 0 | H103: ='Мес прот'!Y29 -> 0 | I103: ='Мес прот'!AE29 -> 0 | J103: ='Мес прот'!AK29 -> 0 | L103: по анализ
C104: Поддържане на алеи и площадки | E104: - | F104: ='Мес прот'!P30 -> 0 | G104: ='Мес прот'!U30 -> 0 | H104: ='Мес прот'!Y30 -> 0 | I104: ='Мес прот'!AE30 -> 0 | J104: ='Мес прот'!AK30 -> 0 | L104: по анализ
A105: 7. | B105: Снегопочистване на тротоари по улици и площади в гр. Елена | E105: - | F105: ='Мес прот'!P31 -> 9 | G105: ='Мес прот'!U31 -> 9 | H105: ='Мес прот'!Y31 -> 9 | I105: ='Мес прот'!AE31 -> 0 | J105: ='Мес прот'!AK31 -> 0 | L105: човекодни
A106: 8. | B106: Поддържане на депото в гр. Елена местността “Поп Сотиров гроб” | E106: - | F106: ='Мес прот'!P32 -> 0 | G106: ='Мес прот'!U32 -> 0 | H106: ='Мес прот'!Y32 -> 0 | I106: ='Мес прот'!AE32 -> 0 | J106: ='Мес прот'!AK32 -> 0 | L106: моточаса
A110: ИЗПЪЛНИТЕЛ:……………. | E110: ВЪЗЛОЖИТЕЛ:………………
A111: “Титан-Клинър” ООД гр. Кърджали | E111: Община Елена
A112: Оргониз. производство /Иван Иванов/ | E112: Ст. специалист “КЧ” /Л. Камбуров/

Sheet КСС зел пл
H4: Мин.раб.запл. 2008 г. | J4: ='Разбивка цена'!B1 -> 240
A5: І. | B5: ПОДДЪРЖАНЕ НА ТРЕВНИ ПЛОЩИ
A6: № | B6: поз. по ЕТНС | C6: Видове операции | D6: мярка | E6: ед. колич | F6: повторяемост | G6: общо колич | H6: ед.цена % МРЗ | I6: общо % МРЗ | J6: лв.спрямо МРЗ | K6: % за 1 месец | L6: лв за 1 месец
A7: 1 | B7: 9/170 | C7: Грапене на тревни площи /преди вегитация | D7: дка | E7: 90 | F7: 1 | G7: 90 | H7: 9.35 | I7: 841.1 | J7: =$J$4*I7/100 -> 2018.64 | K7: =I7/12 -> 70.091667 | L7: =J4*K7% -> 168.22
A8: 2 | B8: 9/171 | C8: Грапене на тревни площи /след приключване на сезона | D8: дка | E8: 90 | F8: 1 | G8: 90 | H8: 12.71 | I8: 1144.04 | J8: =$J$4*I8/100 -> 2745.696 | K8: =I8/12 -> 95.336667 | L8: =J4*K8% -> 228.808
A9: 3 | B9: 9/170 | C9: Грапене на тревни площи /след коситба | D9: дка | E9: 90 | F9: 1 | G9: 90 | H9: 10.79 | I9: 971.19 | J9: =$J$4*I9/100 -> 2330.856 | K9: =I9/12 -> 80.9325 | L9: =J4*K9% -> 194.238
A10: 4 | B10: 9/168 | C10: Окантяване на тревни бордюри с бел | D10: дка | E10: 90 | F10: 1 | G10: 90 | H10: 0.36 | I10: 32.08 | J10: =$J$4*I10/100 -> 76.992 | K10: =I10/12 -> 2.6733333 | L10: =J4*K10% -> 6.416
A11: 5 | B11: 183 | C11: Косене на тревни площи машинно | D11: дка | E11: 90 | F11: 2 | G11: 180 | H11: 11.55 | I11: 2079 | J11: =$J$4*I11/100 -> 4989.6 | K11: =I11/12 -> 173.25 | L11: =J4*K11% -> 415.8
A12: 6 | B12: 185 | C12: Събиране на окосена трева /І и ІІ коситба/ | D12: дка | E12: 90 | F12: 2 | G12: 180 | H12: 3.92 | I12: 705.67 | J12: =$J$4*I12/100 -> 1693.608 | K12: =I12/12 -> 58.805833 | L12: =J4*K12% -> 141.134
A13: 7 | B13: 186 | C13: Събиране на окосена трева /ІІІ и ІV коситба/ | D13: дка | E13: 90 | F13: 2 | G13: 180 | H13: 3.33 | I13: 598.75 | J13: =$J$4*I13/100 -> 1437 | K13: =I13/12 -> 49.895833 | L13: =J4*K13% -> 119.75
A14: 8 | B14: 204 | C14: Аериране на тревни площи | D14: дка | E14: 5 | F14: 1 | G14: 5 | H14: 10.89 | I14: 54.45 | J14: =$J$4*I14/100 -> 130.68 | K14: =I14/12 -> 4.5375 | L14: =J4*K14% -> 10.89
A15: 9 | B15: 193 | C15: Поливане на тревни площи с маркуч | D15: дка | E15: 90 | F15: 2 | G15: 180 | H15: 8.46 | I15: 1523.02 | J15: =$J$4*I15/100 -> 3655.248 | K15: =I15/12 -> 126.91833 | L15: =J4*K15% -> 304.604
C16: ОБЩО | I16: =SUM(I7:I15) -> 7949.3 | J16: =SUM(J7:J15) -> 19078.32 | K16: =SUM(K7:K15) -> 662.44167 | L16: =SUM(L7:L15) -> 1589.86 | M16: лв
A18: ІІ. | B18: ПОДДЪРЖАНЕ НА ЕДНОГОДИШНИ ЦВЕТЯ ВЪВ ФИГУРИ
A19: № | B19: поз. по ЕТНС | C19: Видове операции | D19: мярка | E19: ед. колич | F19: повторяемост | G19: общо колич | H19: ед.цена % МРЗ | I19: общо % МРЗ | J19: лв.спрямо МРЗ | K19: % за 1 месец | L19: лв за 1 месец
A20: 10 | B20: 9/107 | C20: Внасяне допълнителна почва и дълбока обработка | D20: дка | E20: 0.3 | F20: 1 | G20: 0.3 | H20: 10.3 | I20: 3.09 | J20: =$J$4*I20/100 -> 7.416 | K20: =I20/12 -> 0.2575 | L20: =J4*K20% -> 0.618
A21: 11 | B21: 93 | C21: Прекопаване преди засаждане | D21: дка | E21: 0.3 | F21: 1 | G21: 0.3 | H21: 7.72 | I21: 2.32 | J21: =$J$4*I21/100 -> 5.568 | K21: =I21/12 -> 0.19333333 | L21: =J4*K21% -> 0.464
A22: 12 | B22: 120/21/1 | C22: Цветно оформяне - сезонни цветя | D22: м2 | E22: 300 | F22: 2 | G22: 600000 | H22: 1.1 | I22: 658.15 | J22: =$J$4*I22/100 -> 1579.56 | K22: =I22/12 -> 54.845833 | L22: =J4*K22% -> 131.63
A23: 13 | B23: 324 | C23: Поливане цветни фигури с маркуч | D23: м2 | E23: 300 | F23: 5 | G23: 1500000 | H23: 0.54 | I23: 811.8 | J23: =$J$4*I23/100 -> 1948.32 | K23: =I23/12 -> 67.65 | L23: =J4*K23% -> 162.36
A24: 14 | B24: 327 | C24: Прашене на цветни фигури с мотика | D24: м2 | E24: 300 | F24: 2 | G24: 600000 | H24: 0.08 | I24: 47.52 | J24: =$J$4*I24/100 -> 114.048 | K24: =I24/12 -> 3.96 | L24: =J4*K24% -> 9.504
A25: 15 | B25: 335 | C25: Лятна резидба на цветята | D25: м2 | E25: 300 | F25: 2 | G25: 600000 | H25: 0.15 | I25: 89.1 | J25: =$J$4*I25/100 -> 213.84 | K25: =I25/12 -> 7.425 | L25: =J4*K25% -> 17.82
C26: ОБЩО | I26: =SUM(I20:I25) -> 1611.98 | J26: =SUM(J20:J25) -> 3868.752 | K26: =SUM(K20:K25) -> 134.33167 | L26: =SUM(L20:L25) -> 322.396 | M26: лв
A28: ІІІ. | B28: ПОДДЪРЖАНЕ НА РОЗИ
A29: № | B29: поз. по ЕТНС | C29: Видове операции | D29: мярка | E29: ед. колич | F29: повторяемост | G29: общо колич | H29: ед.цена % МРЗ | I29: общо % МРЗ | J29: лв.спрямо МРЗ | K29: % за 1 месец | L29: лв за 1 месец
A30: 16 | B30: 269 | C30: Резитба на рози - есенна | D30: м2 | E30: 10 | F30: 1 | G30: 10 | H30: 0.13 | I30: 1.29 | J30: =$J$4*I30/100 -> 3.096 | K30: =I30/12 -> 0.1075 | L30: =J4*K30% -> 0.258
A31: 17 | B31: 297 | C31: Резитба на рози - лятна | D31: м2 | E31: 10 | F31: 2 | G31: 20 | H31: 0.11 | I31: 2.22 | J31: =$J$4*I31/100 -> 5.328 | K31: =I31/12 -> 0.185 | L31: =J4*K31% -> 0.444
A32: 18 | B32: 270 | C32: Окопаване на рози | D32: м2 | E32: 10 | F32: 2 | G32: 20 | H32: 0.24 | I32: 4.75 | J32: =$J$4*I32/100 -> 11.4 | K32: =I32/12 -> 0.39583333 | L32: =J4*K32% -> 0.95
A33: 19 | B33: 265 | C33: Зазимяване на рози | D33: м2 | E33: 10 | F33: 1 | G33: 10 | H33: 0.42 | I33: 4.16 | J33: =$J$4*I33/100 -> 9.984 | K33: =I33/12 -> 0.34666667 | L33: =J4*K33% -> 0.832
A34: 20 | B34: 1116 | C34: Санитарно пръскане | D34: л | E34: 10 | F34: 1 | G34: 10 | H34: 0.98 | I34: 9.79 | J34: =$J$4*I34/100 -> 23.496 | K34: =I34/12 -> 0.81583333 | L34: =J4*K34% -> 1.958
A35: 21 | B35: 196 | C35: Подхранване на рози | D35: м2 | E35: 10 | F35: 1 | G35: 10 | H35: 0.21 | I35: 2.08 | J35: =$J$4*I35/100 -> 4.992 | K35: =I35/12 -> 0.17333333 | L35: =J4*K35% -> 0.416
C36: ОБЩО | I36: =SUM(I30:I35) -> 24.29 | J36: =SUM(J30:J35) -> 58.296 | K36: =SUM(K30:K35) -> 2.0241667 | L36: =SUM(L30:L35) -> 4.858 | M36: лв
A38: ІV. | B38: ПОДДЪРЖАНЕ НА ЖИВИ ПЛЕТОВЕ
A39: № | B39: поз. по ЕТНС | C39: Видове операции | D39: мярка | E39: ед. колич | F39: повторяемост | G39: общо колич | H39: ед.цена % МРЗ | I39: общо % МРЗ | J39: лв.спрямо МРЗ | K39: % за 1 месец | L39: лв за 1 месец
A40: 22 | B40: 260 | C40: Окопаване на жив плет | D40: 10 м2 | E40: 10 | F40: 2 | G40: 20 | H40: 1.37 | I40: 27.32 | J40: =$J$4*I40/100 -> 65.568 | K40: =I40/12 -> 2.2766667 | L40: =$J$4*K40% -> 5.464
A41: 23 | B41: 324 | C41: Поливане на жив плет | D41: 11 м2 | E41: 10 | F41: 3 | G41: 30 | H41: 0.65 | I41: 19.4 | J41: =$J$4*I41/100 -> 46.56 | K41: =I41/12 -> 1.6166667 | L41: =$J$4*K41% -> 3.88
A42: 24 | B42: 302 | C42: Резитба на жив плет за оформяне - машинно | D42: 12 м2 | E42: 10 | F42: 1 | G42: 10 | H42: 2.04 | I42: 20.45 | J42: =$J$4*I42/100 -> 49.08 | K42: =I42/12 -> 1.7041667 | L42: =$J$4*K42% -> 4.09
C43: ОБЩО | I43: =SUM(I40:I42) -> 67.17 | J43: =SUM(J40:J42) -> 161.208 | K43: =SUM(K40:K42) -> 5.5975 | L43: =SUM(L40:L42) -> 13.434 | M43: лв
A45: V. | B45: ПОДДЪРЖАНЕ НА ДЕКОРАТИВНИ ХРАСТИ - ЕДИНИЧНО И В ГРУПИ
A46: № | B46: поз. по ЕТНС | C46: Видове операции | D46: мярка | E46: ед. колич | F46: повторяемост | G46: общо колич | H46: ед.цена % МРЗ | I46: общо % МРЗ | J46: лв.спрямо МРЗ | K46: % за 1 месец | L46: лв за 1 месец
A47: 25 | B47: 290 | C47: Санитарна резитба на късно цъфтящи храсти | D47: м2 | E47: 100 | F47: 1 | G47: 100 | H47: 1.11 | I47: 110.88 | J47: =$J$4*I47/100 -> 266.112 | K47: =I47/12 -> 9.24 | L47: =$J$4*K47% -> 22.176
A48: 26 | B48: 292 | C48: Огледна резидба на храсти с много сухи клони и чепове | D48: м2 | E48: 7 | F48: 1 | G48: 7 | H48: 3.27 | I48: 22.87 | J48: =$J$4*I48/100 -> 54.888 | K48: =I48/12 -> 1.9058333 | L48: =$J$4*K48% -> 4.574
A49: 27 | B49: 93 | C49: Прекопаване на храсти до 20 см | D49: м2 | E49: 100 | F49: 1 | G49: 100 | H49: 0.69 | I49: 69.3 | J49: =$J$4*I49/100 -> 166.32 | K49: =I49/12 -> 5.775 | L49: =$J$4*K49% -> 13.86
A50: 28 | B50: 324 | C50: Поливане на декоративни храсти | D50: м2 | E50: 100 | F50: 2 | G50: 200 | H50: 0.07 | I50: 14.12 | J50: =$J$4*I50/100 -> 33.888 | K50: =I50/12 -> 1.1766667 | L50: =$J$4*K50% -> 2.824
C51: ОБЩО | I51: =SUM(I47:I50) -> 217.17 | J51: =SUM(J47:J50) -> 521.208 | K51: =SUM(K47:K50) -> 18.0975 | L51: =SUM(L47:L50) -> 43.434 | M51: лв
A53: VІ. | B53: ПОДДЪРЖАНЕ НА ДЪРВЕТА
A54: № | B54: поз. по ЕТНС | C54: Видове операции | D54: мярка | E54: ед. колич | F54: повторяемост | G54: общо колич | H54: ед.цена % МРЗ | I54: общо % МРЗ | J54: лв.спрямо МРЗ | K54: % за 1 месец | L54: лв за 1 месец
A55: 29 | B55: 239 | C55: Прекопаване на дървета | D55: бр | E55: 39 | F55: 1 | G55: 39 | H55: 1.11 | I55: 43.24 | J55: =$J$4*I55/100 -> 103.776 | K55: =I55/12 -> 3.6033333 | L55: =$J$4*K55% -> 8.648
A56: 30 | B56: 281 | C56: Повдигане на корони на дървета | D56: 1 бр | E56: 26 | F56: 1 | G56: 26 | H56: 3.52 | I56: 91.44 | J56: =$J$4*I56/100 -> 219.456 | K56: =I56/12 -> 7.62 | L56: =$J$4*K56% -> 18.288
A57: 31 | B57: 282 | C57: Почистване на издънки | D57: 1бр.дър | E57: 20 | F57: 1 | G57: 20 | H57: 0.99 | I57: 19.8 | J57: =$J$4*I57/100 -> 47.52 | K57: =I57/12 -> 1.65 | L57: =$J$4*K57% -> 3.96
A58: 32 | B58: 280 | C58: Просветляване на короните на дървета | D58: 1 бр | E58: 10 | F58: 1 | G58: 10 | H58: 5.01 | I58: 50.09 | J58: =$J$4*I58/100 -> 120.216 | K58: =I58/12 -> 4.1741667 | L58: =$J$4*K58% -> 10.018
C59: ОБЩО | I59: =SUM(I55:I58) -> 204.57 | J59: =SUM(J55:J58) -> 490.968 | K59: =SUM(K55:K58) -> 17.0475 | L59: =SUM(L55:L58) -> 40.914 | M59: лв
A61: VІІ. | B61: ПОДДЪРЖАНЕ НА АЛЕИ И ПЛОЩАДКИ
A62: № | B62: поз. по ЕТНС | C62: Видове операции | D62: мярка | E62: ед. колич | F62: повторяемост | G62: общо колич | H62: ед.цена % МРЗ | I62: общо % МРЗ | J62: лв.спрямо МРЗ | K62: % за 1 месец | L62: лв за 1 месец
A63: 33 | B63: 355 | C63: Метене | D63: м2 | E63: 300 | F63: 36 | G63: 10800 | H63: 0.04 | I63: 384.91 | J63: =$J$4*I63/100 -> 923.784 | K63: =I63/12 -> 32.075833 | L63: =$J$4*K63% -> 76.982
A64: 34 | B64: 102 | C64: Тесане на алеи | D64: 10м2 | E64: 1200 | F64: 2 | G64: 2400 | H64: 0.69 | I64: 1663.2 | J64: =$J$4*I64/100 -> 3991.68 | K64: =I64/12 -> 138.6 | L64: =$J$4*K64% -> 332.64
A65: 35 | B65: 201 | C65: Събиране на хартии /уборка/ | D65: м2 | E65: 1200 | F65: 5 | G65: 6000 | H65: 0.06 | I65: 380.16 | J65: =$J$4*I65/100 -> 912.384 | K65: =I65/12 -> 31.68 | L65: =$J$4*K65% -> 76.032
C66: ОБЩО | I66: =SUM(I63:I65) -> 2428.27 | J66: =SUM(J63:J65) -> 5827.848 | K66: =SUM(K63:K65) -> 202.35583 | L66: =SUM(L63:L65) -> 485.654 | M66: лв
C69: Всичко за сезон | I69: =SUM(I16,I26,I36,I43,I51,I59,I66) -> 12502.75 | J69: =SUM(J16,J26,J36,J43,J51,J59,J66) -> 30006.6 | K69: =SUM(K16,K26,K36,K43,K51,K59,K66) -> 1041.8958 | L69: =SUM(L16,L26,L36,L43,L51,L59,L66) -> 2500.55 | M69: лв
H70: ДДС | I70: =I69*20% -> 2500.55 | J70: =J69*20% -> 6001.32 | K70: =K69*20% -> 208.37917 | L70: =L69*20% -> 500.11
F71: за 1 година | H71: общо | I71: =SUM(I69:I70) -> 15003.3 | J71: =SUM(J69:J70) -> 36007.92 | K71: =SUM(K69:K70) -> 1250.275
F72: Средно месечна ст-ст | I72: =I71/12 -> 1250.275 | J72: =J71/12 -> 3000.66 | K72: =K71/12 -> 104.18958 | L72: =SUM(L69:L70) -> 3000.66 | M72: лв
F73: % За 6 месеца | I73: =I72*6 -> 7501.65 | J73: =J72*6 -> 18003.96 | K73: =K72*6 -> 625.1375 | L73: =L72*6 -> 18003.96 | M73: лв
